Workbook
Name チーム情報: チーム情報!$A$3:$M$207

Sheet 記入要領
U3: ２０２６年度 愛媛県中学生バレーボール新人大会 参加申込書
R4: 10 | U4: チーム名 | X4: =IFERROR(VLOOKUP($R$4,チーム情報,7,0)&"","") -> 新居浜市立 南 中学校 | AO4: 男子 | AQ4: チームの日本協会登録ＩＤ
AQ5: =IFERROR(VLOOKUP($R$4,チーム情報,2,0)&"","") -> T10260692
U6: 所在地 | X6: 〒 | Y6: =IFERROR(VLOOKUP($R$4,チーム情報,10,0)&"","") -> ７９２－０８１１ | AE6: =IFERROR(VLOOKUP($R$4,チーム情報,11,0)&"","") -> 新居浜市庄内町２丁目４番４７号
U7: 電話 | X7: =IFERROR(VLOOKUP($R$4,チーム情報,12,0)&"","") -> ０８９７－３７－０３１０ | AI7: 全チーム 日本協会登録ＩＤ （監督かコーチに必要） | AP7: クラブチームのみ Ｊスポ資格番号 （監督かコーチに必要）
U8: 監 督 | X8: =IF(C14="","",C14) -> 愛媛 太郎 | AF8: （大人） | AI8: =IF(D14="","",D14) -> JVA012345676 | AP8: =IF(E14="","",E14) -> 000456543
U9: コーチ | X9: =IF(C15="","",C15) -> 松山 次郎 | AF9: （大人） | AI9: =IF(D15="","",D15) -> JVA012345677 | AP9: =IF(E15="","",E15) -> 000765389
J10: マネージャーＩＤ | L10: マネージャー氏名 | U10: 緊急連絡先 監督の携帯電話など | AA10: =IF(C16="","",C16) -> 090-1234-5678 | AI10: 書類が送れる メールアドレス | AO10: =IF(C17="","",C17) -> s_hino@ehimeva.com
J11: JVA012345690 | L11: 松山 太郎 | U11: マネー ジャー | X11: =IF(L11="","",L11) -> 松山 太郎 | AF11: （生徒） | AI11: マネージャーの 日本協会登録ＩＤ | AO11: =IF(J11="","",J11) -> JVA012345690
G12: No | H12: 推薦 | J12: 日本協会登録ID | K12: 背番号 | L12: 選手氏名 | M12: 学年 | N12: 身長 | O12: 指高 | P12: 最高 到達点 | Q12: 備考 | U12: 推薦 | V12: 番号 | W12: 日本協会 登録ＩＤ | AA12: 背番号 | AC12: 選手氏名 | AH12: 学 年 | AK12: 身 長 | AN12: 指 高 | AQ12: 最高到達点 | AT12: 備考 (学校名)
G13: =IF($R$4="","",$R$4) -> 10 | H13: 1 | I13: 1 | J13: JVA012345678 | K13: ① | L13: 松山 一郎 | M13: 3 | N13: 181 | O13: 231 | P13: 300 | Q13: 松山 | U13: =IF(H13=1,"○","") -> ○ | V13: 1 | W13: =IF(J13="","",J13) -> JVA012345678 | AA13: =IF(K13="","",K13) -> ① | AC13: =IF(L13="","",L13) -> 松山 一郎 | AH13: =IF(M13="","",M13) -> 3 | AJ13: 年 | AK13: =IF(N13="","",N13) -> 181 | AM13: cm | AN13: =IF(O13="","",O13) -> 231 | AP13: cm | AQ13: =IF(P13="","",P13) -> 300 | AS13: cm | AT13: =IF(Q13="","",Q13) -> 松山
B14: 監督氏名 | C14: 愛媛 太郎 | D14: JVA012345676 | E14: 000456543 | G14: =IF($R$4="","",$R$4) -> 10 | H14: 1 | I14: 2 | J14: JVA012345679 | K14: 2 | L14: 松山 二郎 | M14: 3 | N14: 180 | O14: 230 | P14: 299 | Q14: 松山 | U14: =IF(H14=1,"○","") -> ○ | V14: 2 | W14: =IF(J14="","",J14) -> JVA012345679 | AA14: =IF(K14="","",K14) -> 2 | AC14: =IF(L14="","",L14) -> 松山 二郎 | AH14: =IF(M14="","",M14) -> 3 | AJ14: 年 | AK14: =IF(N14="","",N14) -> 180 | AM14: cm | AN14: =IF(O14="","",O14) -> 230 | AP14: cm | AQ14: =IF(P14="","",P14) -> 299 | AS14: cm | AT14: =IF(Q14="","",Q14) -> 松山
B15: コーチ氏名 | C15: 松山 次郎 | D15: JVA012345677 | E15: 000765389 | G15: =IF($R$4="","",$R$4) -> 10 | H15: 1 | I15: 3 | J15: JVA012345680 | K15: 3 | L15: 松山 三郎 | M15: 3 | N15: 179 | O15: 229 | P15: 298 | Q15: 北条 | U15: =IF(H15=1,"○","") -> ○ | V15: 3 | W15: =IF(J15="","",J15) -> JVA012345680 | AA15: =IF(K15="","",K15) -> 3 | AC15: =IF(L15="","",L15) -> 松山 三郎 | AH15: =IF(M15="","",M15) -> 3 | AJ15: 年 | AK15: =IF(N15="","",N15) -> 179 | AM15: cm | AN15: =IF(O15="","",O15) -> 229 | AP15: cm | AQ15: =IF(P15="","",P15) -> 298 | AS15: cm | AT15: =IF(Q15="","",Q15) -> 北条
B16: 緊急連絡先 | C16: 090-1234-5678 | G16: =IF($R$4="","",$R$4) -> 10 | I16: 4 | J16: JVA012345681 | K16: 4 | L16: 松山 四郎 | M16: 3 | N16: 178 | O16: 228 | P16: 297 | Q16: 北条 | U16: =IF(H16=1,"○","") | V16: 4 | W16: =IF(J16="","",J16) -> JVA012345681 | AA16: =IF(K16="","",K16) -> 4 | AC16: =IF(L16="","",L16) -> 松山 四郎 | AH16: =IF(M16="","",M16) -> 3 | AJ16: 年 | AK16: =IF(N16="","",N16) -> 178 | AM16: cm | AN16: =IF(O16="","",O16) -> 228 | AP16: cm | AQ16: =IF(P16="","",P16) -> 297 | AS16: cm | AT16: =IF(Q16="","",Q16) -> 北条
B17: 書類が送れる メールアドレス | C17: s_hino@ehimeva.com | G17: =IF($R$4="","",$R$4) -> 10 | I17: 5 | J17: JVA012345682 | K17: 5 | L17: 松山 五郎 | M17: 3 | N17: 177 | O17: 227 | P17: 296 | Q17: 松山 | U17: =IF(H17=1,"○","") | V17: 5 | W17: =IF(J17="","",J17) -> JVA012345682 | AA17: =IF(K17="","",K17) -> 5 | AC17: =IF(L17="","",L17) -> 松山 五郎 | AH17: =IF(M17="","",M17) -> 3 | AJ17: 年 | AK17: =IF(N17="","",N17) -> 177 | AM17: cm | AN17: =IF(O17="","",O17) -> 227 | AP17: cm | AQ17: =IF(P17="","",P17) -> 296 | AS17: cm | AT17: =IF(Q17="","",Q17) -> 松山
G18: =IF($R$4="","",$R$4) -> 10 | I18: 6 | J18: JVA012345683 | K18: 6 | L18: 松山 六郎 | M18: 3 | N18: 176 | O18: 226 | P18: 295 | Q18: 松山 | U18: =IF(H18=1,"○","") | V18: 6 | W18: =IF(J18="","",J18) -> JVA012345683 | AA18: =IF(K18="","",K18) -> 6 | AC18: =IF(L18="","",L18) -> 松山 六郎 | AH18: =IF(M18="","",M18) -> 3 | AJ18: 年 | AK18: =IF(N18="","",N18) -> 176 | AM18: cm | AN18: =IF(O18="","",O18) -> 226 | AP18: cm | AQ18: =IF(P18="","",P18) -> 295 | AS18: cm | AT18: =IF(Q18="","",Q18) -> 松山
G19: =IF($R$4="","",$R$4) -> 10 | I19: 7 | J19: JVA012345684 | K19: 7 | L19: 松山 七郎 | M19: 2 | N19: 175 | O19: 225 | P19: 294 | Q19: 松山 | U19: =IF(H19=1,"○","") | V19: 7 | W19: =IF(J19="","",J19) -> JVA012345684 | AA19: =IF(K19="","",K19) -> 7 | AC19: =IF(L19="","",L19) -> 松山 七郎 | AH19: =IF(M19="","",M19) -> 2 | AJ19: 年 | AK19: =IF(N19="","",N19) -> 175 | AM19: cm | AN19: =IF(O19="","",O19) -> 225 | AP19: cm | AQ19: =IF(P19="","",P19) -> 294 | AS19: cm | AT19: =IF(Q19="","",Q19) -> 松山
G20: =IF($R$4="","",$R$4) -> 10 | I20: 8 | J20: JVA012345685 | K20: 8 | L20: 松山 八郎 | M20: 2 | N20: 174 | O20: 224 | P20: 293 | Q20: 松山 | U20: =IF(H20=1,"○","") | V20: 8 | W20: =IF(J20="","",J20) -> JVA012345685 | AA20: =IF(K20="","",K20) -> 8 | AC20: =IF(L20="","",L20) -> 松山 八郎 | AH20: =IF(M20="","",M20) -> 2 | AJ20: 年 | AK20: =IF(N20="","",N20) -> 174 | AM20: cm | AN20: =IF(O20="","",O20) -> 224 | AP20: cm | AQ20: =IF(P20="","",P20) -> 293 | AS20: cm | AT20: =IF(Q20="","",Q20) -> 松山
G21: =IF($R$4="","",$R$4) -> 10 | I21: 9 | J21: JVA012345686 | K21: 9 | L21: 松山 九郎 | M21: 2 | N21: 173 | O21: 223 | P21: 292 | Q21: 北条 | U21: =IF(H21=1,"○","") | V21: 9 | W21: =IF(J21="","",J21) -> JVA012345686 | AA21: =IF(K21="","",K21) -> 9 | AC21: =IF(L21="","",L21) -> 松山 九郎 | AH21: =IF(M21="","",M21) -> 2 | AJ21: 年 | AK21: =IF(N21="","",N21) -> 173 | AM21: cm | AN21: =IF(O21="","",O21) -> 223 | AP21: cm | AQ21: =IF(P21="","",P21) -> 292 | AS21: cm | AT21: =IF(Q21="","",Q21) -> 北条
G22: =IF($R$4="","",$R$4) -> 10 | I22: 10 | J22: JVA012345687 | K22: 10 | L22: 松山 十郎 | M22: 2 | N22: 172 | O22: 222 | P22: 291 | Q22: 北条 | U22: =IF(H22=1,"○","") | V22: 10 | W22: =IF(J22="","",J22) -> JVA012345687 | AA22: =IF(K22="","",K22) -> 10 | AC22: =IF(L22="","",L22) -> 松山 十郎 | AH22: =IF(M22="","",M22) -> 2 | AJ22: 年 | AK22: =IF(N22="","",N22) -> 172 | AM22: cm | AN22: =IF(O22="","",O22) -> 222 | AP22: cm | AQ22: =IF(P22="","",P22) -> 291 | AS22: cm | AT22: =IF(Q22="","",Q22) -> 北条
G23: =IF($R$4="","",$R$4) -> 10 | I23: 11 | J23: JVA012345688 | K23: 11 | L23: 松山 十一郎 | M23: 2 | N23: 171 | O23: 221 | P23: 290 | Q23: 松山 | U23: =IF(H23=1,"○","") | V23: 11 | W23: =IF(J23="","",J23) -> JVA012345688 | AA23: =IF(K23="","",K23) -> 11 | AC23: =IF(L23="","",L23) -> 松山 十一郎 | AH23: =IF(M23="","",M23) -> 2 | AJ23: 年 | AK23: =IF(N23="","",N23) -> 171 | AM23: cm | AN23: =IF(O23="","",O23) -> 221 | AP23: cm | AQ23: =IF(P23="","",P23) -> 290 | AS23: cm | AT23: =IF(Q23="","",Q23) -> 松山
G24: =IF($R$4="","",$R$4) -> 10 | I24: 12 | J24: JVA012345689 | K24: 12 | L24: 松山 十二郎 | M24: 1 | N24: 170 | O24: 220 | P24: 289 | Q24: 松山 | U24: =IF(H24=1,"○","") | V24: 12 | W24: =IF(J24="","",J24) -> JVA012345689 | AA24: =IF(K24="","",K24) -> 12 | AC24: =IF(L24="","",L24) -> 松山 十二郎 | AH24: =IF(M24="","",M24) -> 1 | AJ24: 年 | AK24: =IF(N24="","",N24) -> 170 | AM24: cm | AN24: =IF(O24="","",O24) -> 220 | AP24: cm | AQ24: =IF(P24="","",P24) -> 289 | AS24: cm | AT24: =IF(Q24="","",Q24) -> 松山
U25: ※ 主将の【背番号】に【○】をつけてください。
U26: ※ ＪＯＣカップ愛媛県選抜チーム推薦選手には【推薦】の欄に【○】をつけてください。

Sheet 申込先メールアドレス
B2: s_hino@ehimeva.com

Sheet 男子用申込書(必ず記入要領を確認してください。)
U3: ２０２６年度 愛媛県中学生バレーボール新人大会 参加申込書
U4: チーム名 | X4: =IFERROR(VLOOKUP($R$4,チーム情報,7,0)&"","") | AO4: 男子 | AQ4: チームの日本協会登録ＩＤ
AQ5: =IFERROR(VLOOKUP($R$4,チーム情報,2,0)&"","")
U6: 所在地 | X6: 〒 | Y6: =IFERROR(VLOOKUP($R$4,チーム情報,10,0)&"","") | AE6: =IFERROR(VLOOKUP($R$4,チーム情報,11,0)&"","")
U7: 電話 | X7: =IFERROR(VLOOKUP($R$4,チーム情報,12,0)&"","") | AI7: 全チーム 日本協会登録ＩＤ （監督かコーチに必要） | AP7: クラブチームのみ Ｊスポ資格番号 （監督かコーチに必要）
U8: 監 督 | X8: =IF(C14="","",C14) | AF8: （大人） | AI8: =IF(D14="","",D14) | AP8: =IF(E14="","",E14)
U9: コーチ | X9: =IF(C15="","",C15) | AF9: （大人） | AI9: =IF(D15="","",D15) | AP9: =IF(E15="","",E15)
J10: マネージャーＩＤ | L10: マネージャー氏名 | U10: 緊急連絡先 監督の携帯電話など | AA10: =IF(C16="","",C16) | AI10: 書類が送れる メールアドレス | AO10: =IF(C17="","",C17)
U11: マネー ジャー | X11: =IF(L11="","",L11) | AF11: （生徒） | AI11: マネージャーの 日本協会登録ＩＤ | AO11: =IF(J11="","",J11)
G12: No | H12: 推薦 | J12: 日本協会登録ID | K12: 背番号 | L12: 選手氏名 | M12: 学年 | N12: 身長 | O12: 指高 | P12: 最高 到達点 | Q12: 備考 | U12: 推薦 | V12: 番号 | W12: 日本協会 登録ＩＤ | AA12: 背番号 | AC12: 選手氏名 | AH12: 学 年 | AK12: 身 長 | AN12: 指 高 | AQ12: 最高到達点 | AT12: 備考 (学校名)
G13: =IF($R$4="","",$R$4) | I13: 1 | U13: =IF(H13=1,"○","") | V13: 1 | W13: =IF(J13="","",J13) | AA13: =IF(K13="","",K13) | AC13: =IF(L13="","",L13) | AH13: =IF(M13="","",M13) | AJ13: 年 | AK13: =IF(N13="","",N13) | AM13: cm | AN13: =IF(O13="","",O13) | AP13: cm | AQ13: =IF(P13="","",P13) | AS13: cm | AT13: =IF(Q13="","",Q13)
B14: 監督氏名 | G14: =IF($R$4="","",$R$4) | I14: 2 | U14: =IF(H14=1,"○","") | V14: 2 | W14: =IF(J14="","",J14) | AA14: =IF(K14="","",K14) | AC14: =IF(L14="","",L14) | AH14: =IF(M14="","",M14) | AJ14: 年 | AK14: =IF(N14="","",N14) | AM14: cm | AN14: =IF(O14="","",O14) | AP14: cm | AQ14: =IF(P14="","",P14) | AS14: cm | AT14: =IF(Q14="","",Q14)
B15: コーチ氏名 | G15: =IF($R$4="","",$R$4) | I15: 3 | U15: =IF(H15=1,"○","") | V15: 3 | W15: =IF(J15="","",J15) | AA15: =IF(K15="","",K15) | AC15: =IF(L15="","",L15) | AH15: =IF(M15="","",M15) | AJ15: 年 | AK15: =IF(N15="","",N15) | AM15: cm | AN15: =IF(O15="","",O15) | AP15: cm | AQ15: =IF(P15="","",P15) | AS15: cm | AT15: =IF(Q15="","",Q15)
B16: 緊急連絡先 | G16: =IF($R$4="","",$R$4) | I16: 4 | U16: =IF(H16=1,"○","") | V16: 4 | W16: =IF(J16="","",J16) | AA16: =IF(K16="","",K16) | AC16: =IF(L16="","",L16) | AH16: =IF(M16="","",M16) | AJ16: 年 | AK16: =IF(N16="","",N16) | AM16: cm | AN16: =IF(O16="","",O16) | AP16: cm | AQ16: =IF(P16="","",P16) | AS16: cm | AT16: =IF(Q16="","",Q16)
B17: 書類が送れる メールアドレス | G17: =IF($R$4="","",$R$4) | I17: 5 | U17: =IF(H17=1,"○","") | V17: 5 | W17: =IF(J17="","",J17) | AA17: =IF(K17="","",K17) | AC17: =IF(L17="","",L17) | AH17: =IF(M17="","",M17) | AJ17: 年 | AK17: =IF(N17="","",N17) | AM17: cm | AN17: =IF(O17="","",O17) | AP17: cm | AQ17: =IF(P17="","",P17) | AS17: cm | AT17: =IF(Q17="","",Q17)
G18: =IF($R$4="","",$R$4) | I18: 6 | U18: =IF(H18=1,"○","") | V18: 6 | W18: =IF(J18="","",J18) | AA18: =IF(K18="","",K18) | AC18: =IF(L18="","",L18) | AH18: =IF(M18="","",M18) | AJ18: 年 | AK18: =IF(N18="","",N18) | AM18: cm | AN18: =IF(O18="","",O18) | AP18: cm | AQ18: =IF(P18="","",P18) | AS18: cm | AT18: =IF(Q18="","",Q18)
G19: =IF($R$4="","",$R$4) | I19: 7 | U19: =IF(H19=1,"○","") | V19: 7 | W19: =IF(J19="","",J19) | AA19: =IF(K19="","",K19) | AC19: =IF(L19="","",L19) | AH19: =IF(M19="","",M19) | AJ19: 年 | AK19: =IF(N19="","",N19) | AM19: cm | AN19: =IF(O19="","",O19) | AP19: cm | AQ19: =IF(P19="","",P19) | AS19: cm | AT19: =IF(Q19="","",Q19)
G20: =IF($R$4="","",$R$4) | I20: 8 | U20: =IF(H20=1,"○","") | V20: 8 | W20: =IF(J20="","",J20) | AA20: =IF(K20="","",K20) | AC20: =IF(L20="","",L20) | AH20: =IF(M20="","",M20) | AJ20: 年 | AK20: =IF(N20="","",N20) | AM20: cm | AN20: =IF(O20="","",O20) | AP20: cm | AQ20: =IF(P20="","",P20) | AS20: cm | AT20: =IF(Q20="","",Q20)
G21: =IF($R$4="","",$R$4) | I21: 9 | U21: =IF(H21=1,"○","") | V21: 9 | W21: =IF(J21="","",J21) | AA21: =IF(K21="","",K21) | AC21: =IF(L21="","",L21) | AH21: =IF(M21="","",M21) | AJ21: 年 | AK21: =IF(N21="","",N21) | AM21: cm | AN21: =IF(O21="","",O21) | AP21: cm | AQ21: =IF(P21="","",P21) | AS21: cm | AT21: =IF(Q21="","",Q21)
G22: =IF($R$4="","",$R$4) | I22: 10 | U22: =IF(H22=1,"○","") | V22: 10 | W22: =IF(J22="","",J22) | AA22: =IF(K22="","",K22) | AC22: =IF(L22="","",L22) | AH22: =IF(M22="","",M22) | AJ22: 年 | AK22: =IF(N22="","",N22) | AM22: cm | AN22: =IF(O22="","",O22) | AP22: cm | AQ22: =IF(P22="","",P22) | AS22: cm | AT22: =IF(Q22="","",Q22)
G23: =IF($R$4="","",$R$4) | I23: 11 | U23: =IF(H23=1,"○","") | V23: 11 | W23: =IF(J23="","",J23) | AA23: =IF(K23="","",K23) | AC23: =IF(L23="","",L23) | AH23: =IF(M23="","",M23) | AJ23: 年 | AK23: =IF(N23="","",N23) | AM23: cm | AN23: =IF(O23="","",O23) | AP23: cm | AQ23: =IF(P23="","",P23) | AS23: cm | AT23: =IF(Q23="","",Q23)
G24: =IF($R$4="","",$R$4) | I24: 12 | U24: =IF(H24=1,"○","") | V24: 12 | W24: =IF(J24="","",J24) | AA24: =IF(K24="","",K24) | AC24: =IF(L24="","",L24) | AH24: =IF(M24="","",M24) | AJ24: 年 | AK24: =IF(N24="","",N24) | AM24: cm | AN24: =IF(O24="","",O24) | AP24: cm | AQ24: =IF(P24="","",P24) | AS24: cm | AT24: =IF(Q24="","",Q24)
U25: ※ 主将の【背番号】に【○】をつけてください。
U26: ※ ＪＯＣカップ愛媛県選抜チーム推薦選手には【推薦】の欄に【○】をつけてください。

Sheet 男子メンバー表
B1: 記録用紙用メンバー表
B2: 外側の線に沿って切り離して、試合前に提出してください。大会を通して使用します。
A5: ='男子用申込書(必ず記入要領を確認してください。)'!R4 -> 0 | B5: チーム名 | C5: =IFERROR(VLOOKUP(A5,チーム情報,8,0),"")
B6: 競技者 番 号 | C6: 氏 名
B7: =IF('男子用申込書(必ず記入要領を確認してください。)'!K13="","", '男子用申込書(必ず記入要領を確認してください。)'!K13) | C7: =IF('男子用申込書(必ず記入要領を確認してください。)'!L13="","", '男子用申込書(必ず記入要領を確認してください。)'!L13)
B8: =IF('男子用申込書(必ず記入要領を確認してください。)'!K14="","", '男子用申込書(必ず記入要領を確認してください。)'!K14) | C8: =IF('男子用申込書(必ず記入要領を確認してください。)'!L14="","", '男子用申込書(必ず記入要領を確認してください。)'!L14)
B9: =IF('男子用申込書(必ず記入要領を確認してください。)'!K15="","", '男子用申込書(必ず記入要領を確認してください。)'!K15) | C9: =IF('男子用申込書(必ず記入要領を確認してください。)'!L15="","", '男子用申込書(必ず記入要領を確認してください。)'!L15)
B10: =IF('男子用申込書(必ず記入要領を確認してください。)'!K16="","", '男子用申込書(必ず記入要領を確認してください。)'!K16) | C10: =IF('男子用申込書(必ず記入要領を確認してください。)'!L16="","", '男子用申込書(必ず記入要領を確認してください。)'!L16)
B11: =IF('男子用申込書(必ず記入要領を確認してください。)'!K17="","", '男子用申込書(必ず記入要領を確認してください。)'!K17) | C11: =IF('男子用申込書(必ず記入要領を確認してください。)'!L17="","", '男子用申込書(必ず記入要領を確認してください。)'!L17)
B12: =IF('男子用申込書(必ず記入要領を確認してください。)'!K18="","", '男子用申込書(必ず記入要領を確認してください。)'!K18) | C12: =IF('男子用申込書(必ず記入要領を確認してください。)'!L18="","", '男子用申込書(必ず記入要領を確認してください。)'!L18)
B13: =IF('男子用申込書(必ず記入要領を確認してください。)'!K19="","", '男子用申込書(必ず記入要領を確認してください。)'!K19) | C13: =IF('男子用申込書(必ず記入要領を確認してください。)'!L19="","", '男子用申込書(必ず記入要領を確認してください。)'!L19)
B14: =IF('男子用申込書(必ず記入要領を確認してください。)'!K20="","", '男子用申込書(必ず記入要領を確認してください。)'!K20) | C14: =IF('男子用申込書(必ず記入要領を確認してください。)'!L20="","", '男子用申込書(必ず記入要領を確認してください。)'!L20)
B15: =IF('男子用申込書(必ず記入要領を確認してください。)'!K21="","", '男子用申込書(必ず記入要領を確認してください。)'!K21) | C15: =IF('男子用申込書(必ず記入要領を確認してください。)'!L21="","", '男子用申込書(必ず記入要領を確認してください。)'!L21)
B16: =IF('男子用申込書(必ず記入要領を確認してください。)'!K22="","", '男子用申込書(必ず記入要領を確認してください。)'!K22) | C16: =IF('男子用申込書(必ず記入要領を確認してください。)'!L22="","", '男子用申込書(必ず記入要領を確認してください。)'!L22)
B17: =IF('男子用申込書(必ず記入要領を確認してください。)'!K23="","", '男子用申込書(必ず記入要領を確認してください。)'!K23) | C17: =IF('男子用申込書(必ず記入要領を確認してください。)'!L23="","", '男子用申込書(必ず記入要領を確認してください。)'!L23)
B18: =IF('男子用申込書(必ず記入要領を確認してください。)'!K24="","", '男子用申込書(必ず記入要領を確認してください。)'!K24) | C18: =IF('男子用申込書(必ず記入要領を確認してください。)'!L24="","", '男子用申込書(必ず記入要領を確認してください。)'!L24)

Sheet 女子用申込書(必ず記入要領を確認してください。)
U3: ２０２６年度 愛媛県中学生バレーボール新人大会 参加申込書
U4: チーム名 | X4: =IFERROR(VLOOKUP($R$4,チーム情報,7,0)&"","") | AO4: 女子 | AQ4: チームの日本協会登録ＩＤ
AQ5: =IFERROR(VLOOKUP($R$4,チーム情報,3,0)&"","")
U6: 所在地 | X6: 〒 | Y6: =IFERROR(VLOOKUP($R$4,チーム情報,10,0)&"","") | AE6: =IFERROR(VLOOKUP($R$4,チーム情報,11,0)&"","")
U7: 電話 | X7: =IFERROR(VLOOKUP($R$4,チーム情報,12,0)&"","") | AI7: 全チーム 日本協会登録ＩＤ （監督かコーチに必要） | AP7: クラブチームのみ Ｊスポ資格番号 （監督かコーチに必要）
U8: 監 督 | X8: =IF(C14="","",C14) | AF8: （大人） | AI8: =IF(D14="","",D14) | AP8: =IF(E14="","",E14)
U9: コーチ | X9: =IF(C15="","",C15) | AF9: （大人） | AI9: =IF(D15="","",D15) | AP9: =IF(E15="","",E15)
J10: マネージャーＩＤ | L10: マネージャー氏名 | U10: 緊急連絡先 監督の携帯電話など | AA10: =IF(C16="","",C16) | AI10: 書類が送れる メールアドレス | AO10: =IF(C17="","",C17)
U11: マネー ジャー | X11: =IF(L11="","",L11) | AF11: （生徒） | AI11: マネージャーの 日本協会登録ＩＤ | AO11: =IF(J11="","",J11)
G12: No | H12: 推薦 | J12: 日本協会登録ID | K12: 背番号 | L12: 選手氏名 | M12: 学年 | N12: 身長 | O12: 指高 | P12: 最高 到達点 | Q12: 備考 | U12: 推薦 | V12: 番号 | W12: 日本協会 登録ＩＤ | AA12: 背番号 | AC12: 選手氏名 | AH12: 学 年 | AK12: 身 長 | AN12: 指 高 | AQ12: 最高到達点 | AT12: 備考 (学校名)
G13: =IF($R$4="","",$R$4) | I13: 1 | U13: =IF(H13=1,"○","") | V13: 1 | W13: =IF(J13="","",J13) | AA13: =IF(K13="","",K13) | AC13: =IF(L13="","",L13) | AH13: =IF(M13="","",M13) | AJ13: 年 | AK13: =IF(N13="","",N13) | AM13: cm | AN13: =IF(O13="","",O13) | AP13: cm | AQ13: =IF(P13="","",P13) | AS13: cm | AT13: =IF(Q13="","",Q13)
B14: 監督氏名 | G14: =IF($R$4="","",$R$4) | I14: 2 | U14: =IF(H14=1,"○","") | V14: 2 | W14: =IF(J14="","",J14) | AA14: =IF(K14="","",K14) | AC14: =IF(L14="","",L14) | AH14: =IF(M14="","",M14) | AJ14: 年 | AK14: =IF(N14="","",N14) | AM14: cm | AN14: =IF(O14="","",O14) | AP14: cm | AQ14: =IF(P14="","",P14) | AS14: cm | AT14: =IF(Q14="","",Q14)
B15: コーチ氏名 | G15: =IF($R$4="","",$R$4) | I15: 3 | U15: =IF(H15=1,"○","") | V15: 3 | W15: =IF(J15="","",J15) | AA15: =IF(K15="","",K15) | AC15: =IF(L15="","",L15) | AH15: =IF(M15="","",M15) | AJ15: 年 | AK15: =IF(N15="","",N15) | AM15: cm | AN15: =IF(O15="","",O15) | AP15: cm | AQ15: =IF(P15="","",P15) | AS15: cm | AT15: =IF(Q15="","",Q15)
B16: 緊急連絡先 | G16: =IF($R$4="","",$R$4) | I16: 4 | U16: =IF(H16=1,"○","") | V16: 4 | W16: =IF(J16="","",J16) | AA16: =IF(K16="","",K16) | AC16: =IF(L16="","",L16) | AH16: =IF(M16="","",M16) | AJ16: 年 | AK16: =IF(N16="","",N16) | AM16: cm | AN16: =IF(O16="","",O16) | AP16: cm | AQ16: =IF(P16="","",P16) | AS16: cm | AT16: =IF(Q16="","",Q16)
B17: 書類が送れる メールアドレス | G17: =IF($R$4="","",$R$4) | I17: 5 | U17: =IF(H17=1,"○","") | V17: 5 | W17: =IF(J17="","",J17) | AA17: =IF(K17="","",K17) | AC17: =IF(L17="","",L17) | AH17: =IF(M17="","",M17) | AJ17: 年 | AK17: =IF(N17="","",N17) | AM17: cm | AN17: =IF(O17="","",O17) | AP17: cm | AQ17: =IF(P17="","",P17) | AS17: cm | AT17: =IF(Q17="","",Q17)
G18: =IF($R$4="","",$R$4) | I18: 6 | U18: =IF(H18=1,"○","") | V18: 6 | W18: =IF(J18="","",J18) | AA18: =IF(K18="","",K18) | AC18: =IF(L18="","",L18) | AH18: =IF(M18="","",M18) | AJ18: 年 | AK18: =IF(N18="","",N18) | AM18: cm | AN18: =IF(O18="","",O18) | AP18: cm | AQ18: =IF(P18="","",P18) | AS18: cm | AT18: =IF(Q18="","",Q18)
G19: =IF($R$4="","",$R$4) | I19: 7 | U19: =IF(H19=1,"○","") | V19: 7 | W19: =IF(J19="","",J19) | AA19: =IF(K19="","",K19) | AC19: =IF(L19="","",L19) | AH19: =IF(M19="","",M19) | AJ19: 年 | AK19: =IF(N19="","",N19) | AM19: cm | AN19: =IF(O19="","",O19) | AP19: cm | AQ19: =IF(P19="","",P19) | AS19: cm | AT19: =IF(Q19="","",Q19)
G20: =IF($R$4="","",$R$4) | I20: 8 | U20: =IF(H20=1,"○","") | V20: 8 | W20: =IF(J20="","",J20) | AA20: =IF(K20="","",K20) | AC20: =IF(L20="","",L20) | AH20: =IF(M20="","",M20) | AJ20: 年 | AK20: =IF(N20="","",N20) | AM20: cm | AN20: =IF(O20="","",O20) | AP20: cm | AQ20: =IF(P20="","",P20) | AS20: cm | AT20: =IF(Q20="","",Q20)
G21: =IF($R$4="","",$R$4) | I21: 9 | U21: =IF(H21=1,"○","") | V21: 9 | W21: =IF(J21="","",J21) | AA21: =IF(K21="","",K21) | AC21: =IF(L21="","",L21) | AH21: =IF(M21="","",M21) | AJ21: 年 | AK21: =IF(N21="","",N21) | AM21: cm | AN21: =IF(O21="","",O21) | AP21: cm | AQ21: =IF(P21="","",P21) | AS21: cm | AT21: =IF(Q21="","",Q21)
G22: =IF($R$4="","",$R$4) | I22: 10 | U22: =IF(H22=1,"○","") | V22: 10 | W22: =IF(J22="","",J22) | AA22: =IF(K22="","",K22) | AC22: =IF(L22="","",L22) | AH22: =IF(M22="","",M22) | AJ22: 年 | AK22: =IF(N22="","",N22) | AM22: cm | AN22: =IF(O22="","",O22) | AP22: cm | AQ22: =IF(P22="","",P22) | AS22: cm | AT22: =IF(Q22="","",Q22)
G23: =IF($R$4="","",$R$4) | I23: 11 | U23: =IF(H23=1,"○","") | V23: 11 | W23: =IF(J23="","",J23) | AA23: =IF(K23="","",K23) | AC23: =IF(L23="","",L23) | AH23: =IF(M23="","",M23) | AJ23: 年 | AK23: =IF(N23="","",N23) | AM23: cm | AN23: =IF(O23="","",O23) | AP23: cm | AQ23: =IF(P23="","",P23) | AS23: cm | AT23: =IF(Q23="","",Q23)
G24: =IF($R$4="","",$R$4) | I24: 12 | U24: =IF(H24=1,"○","") | V24: 12 | W24: =IF(J24="","",J24) | AA24: =IF(K24="","",K24) | AC24: =IF(L24="","",L24) | AH24: =IF(M24="","",M24) | AJ24: 年 | AK24: =IF(N24="","",N24) | AM24: cm | AN24: =IF(O24="","",O24) | AP24: cm | AQ24: =IF(P24="","",P24) | AS24: cm | AT24: =IF(Q24="","",Q24)
U25: ※ 主将の【背番号】に【○】をつけてください。
U26: ※ ＪＯＣカップ愛媛県選抜チーム推薦選手には【推薦】の欄に【○】をつけてください。

Sheet 女子メンバー表
B1: 記録用紙用メンバー表
B2: 外側の線に沿って切り離して、試合前に提出してください。大会を通して使用します。
A5: ='女子用申込書(必ず記入要領を確認してください。)'!R4 -> 0 | B5: チーム名 | C5: =IFERROR(VLOOKUP(A5,チーム情報,8,0),"")
B6: 競技者 番 号 | C6: 氏 名
B7: =IF('男子用申込書(必ず記入要領を確認してください。)'!K13="","", '男子用申込書(必ず記入要領を確認してください。)'!K13) | C7: =IF('女子用申込書(必ず記入要領を確認してください。)'!L13="","", '女子用申込書(必ず記入要領を確認してください。)'!L13)
B8: =IF('男子用申込書(必ず記入要領を確認してください。)'!K14="","", '男子用申込書(必ず記入要領を確認してください。)'!K14) | C8: =IF('女子用申込書(必ず記入要領を確認してください。)'!L14="","", '女子用申込書(必ず記入要領を確認してください。)'!L14)
B9: =IF('男子用申込書(必ず記入要領を確認してください。)'!K15="","", '男子用申込書(必ず記入要領を確認してください。)'!K15) | C9: =IF('女子用申込書(必ず記入要領を確認してください。)'!L15="","", '女子用申込書(必ず記入要領を確認してください。)'!L15)
B10: =IF('男子用申込書(必ず記入要領を確認してください。)'!K16="","", '男子用申込書(必ず記入要領を確認してください。)'!K16) | C10: =IF('女子用申込書(必ず記入要領を確認してください。)'!L16="","", '女子用申込書(必ず記入要領を確認してください。)'!L16)
B11: =IF('男子用申込書(必ず記入要領を確認してください。)'!K17="","", '男子用申込書(必ず記入要領を確認してください。)'!K17) | C11: =IF('女子用申込書(必ず記入要領を確認してください。)'!L17="","", '女子用申込書(必ず記入要領を確認してください。)'!L17)
B12: =IF('男子用申込書(必ず記入要領を確認してください。)'!K18="","", '男子用申込書(必ず記入要領を確認してください。)'!K18) | C12: =IF('女子用申込書(必ず記入要領を確認してください。)'!L18="","", '女子用申込書(必ず記入要領を確認してください。)'!L18)
B13: =IF('男子用申込書(必ず記入要領を確認してください。)'!K19="","", '男子用申込書(必ず記入要領を確認してください。)'!K19) | C13: =IF('女子用申込書(必ず記入要領を確認してください。)'!L19="","", '女子用申込書(必ず記入要領を確認してください。)'!L19)
B14: =IF('男子用申込書(必ず記入要領を確認してください。)'!K20="","", '男子用申込書(必ず記入要領を確認してください。)'!K20) | C14: =IF('女子用申込書(必ず記入要領を確認してください。)'!L20="","", '女子用申込書(必ず記入要領を確認してください。)'!L20)
B15: =IF('男子用申込書(必ず記入要領を確認してください。)'!K21="","", '男子用申込書(必ず記入要領を確認してください。)'!K21) | C15: =IF('女子用申込書(必ず記入要領を確認してください。)'!L21="","", '女子用申込書(必ず記入要領を確認してください。)'!L21)
B16: =IF('男子用申込書(必ず記入要領を確認してください。)'!K22="","", '男子用申込書(必ず記入要領を確認してください。)'!K22) | C16: =IF('女子用申込書(必ず記入要領を確認してください。)'!L22="","", '女子用申込書(必ず記入要領を確認してください。)'!L22)
B17: =IF('男子用申込書(必ず記入要領を確認してください。)'!K23="","", '男子用申込書(必ず記入要領を確認してください。)'!K23) | C17: =IF('女子用申込書(必ず記入要領を確認してください。)'!L23="","", '女子用申込書(必ず記入要領を確認してください。)'!L23)
B18: =IF('男子用申込書(必ず記入要領を確認してください。)'!K24="","", '男子用申込書(必ず記入要領を確認してください。)'!K24) | C18: =IF('女子用申込書(必ず記入要領を確認してください。)'!L24="","", '女子用申込書(必ず記入要領を確認してください。)'!L24)

Sheet Sheet1
C2: 東予 | F2: 中予 | I2: 南予 | L2: クラブ
C3: 番号 | D3: チーム | F3: 番号 | G3: チーム | I3: 番号 | J3: チーム | L3: 番号 | M3: チーム
C4: 1 | D4: 川之江北 | F4: 48 | G4: 拓南 | I4: 95 | J4: 大洲南 | L4: 133 | M4: 四国中央ｸﾗﾌﾞ
C5: 2 | D5: 川之江南 | F5: 49 | G5: 雄新 | I5: 96 | J5: 大洲北 | L5: 134 | M5: 新居浜ｸﾗﾌﾞﾕｰｽ
C6: 3 | D6: 三島西 | F6: 50 | G6: 勝山 | I6: 97 | J6: 平野 | L6: 135 | M6: 余土クラブ
C7: 4 | D7: 三島南 | F7: 51 | G7: 松山東 | I7: 98 | J7: 肱東 | L7: 136 | M7: FLY HIGH
C8: 5 | D8: 三島東 | F8: 52 | G8: 道後 | I8: 99 | J8: 新谷 | L8: 137 | M8: 天神クラブ
C9: 6 | D9: 土居 | F9: 53 | G9: 鴨川 | I9: 100 | J9: 大洲東 | L9: 138 | M9: 葵クラブ
C10: 7 | D10: 新宮 | F10: 54 | G10: 内宮 | I10: 101 | J10: 長浜 | L10: 139 | M10: たきはまＶＣ
C11: 8 | D11: 新居浜東 | F11: 55 | G11: 三津浜 | I11: 102 | J11: 肱川 | L11: 140 | M11: VORTEX今治女子
C12: 9 | D12: 新居浜西 | F12: 56 | G12: 高浜 | I12: 103 | J12: 河辺 | L12: 141 | M12: Y’sﾊﾞﾚｰﾎﾞｰﾙｸﾗﾌﾞ
C13: 10 | D13: 新居浜南 | F13: 57 | G13: 津田 | I13: 104 | J13: 内子 | L13: 142 | M13: ＮＯＡ
C14: 11 | D14: 新居浜北 | F14: 58 | G14: 垣生 | I14: 105 | J14: 大瀬 | L14: 143 | M14: 東温ルミナス
C15: 12 | D15: 泉川 | F15: 59 | G15: 興居島 | I15: 106 | J15: 五十崎 | L15: 144 | M15: スマイル大洲
... C28: 25 | D28: 河北 | F28: 72 | G28: 城西 | I28: 119 | J28: 城東 | L28: 157 | M28: SEEDS 女子
C29: 26 | D29: 東予東 | F29: 73 | G29: 松山北 | I29: 120 | J29: 城南
C30: 27 | D30: 丹原東 | F30: 74 | G30: 北条北 | I30: 121 | J30: 城北
C31: 28 | D31: 丹原西 | F31: 75 | G31: 北条南 | I31: 122 | J31: 吉田
C32: 29 | D32: 日吉 | F32: 76 | G32: 中島 | I32: 123 | J32: 三間
C33: 30 | D33: 近見 | F33: 77 | G33: 愛大附属 | I33: 124 | J33: 津島
C34: 31 | D34: 立花 | F34: 78 | G34: 県立西 | I34: 125 | J34: 松野
C35: 32 | D35: 桜井 | F35: 79 | G35: 愛光 | I35: 126 | J35: 広見
C36: 33 | D36: 今治南 | F36: 80 | G36: 済美平成 | I36: 127 | J36: 日吉
C37: 34 | D37: 今治西 | F37: 81 | G37: 松山東雲 | I37: 128 | J37: 内海
C38: 35 | D38: 北郷 | F38: 82 | G38: 新田青雲 | I38: 129 | J38: 御荘
C39: 36 | D39: 朝倉 | F39: 83 | G39: 重信 | I39: 130 | J39: 城辺
C40: 37 | D40: 玉川 | F40: 84 | G40: 川内 | I40: 131 | J40: 一本松
C41: 38 | D41: 大西 | F41: 85 | G41: 港南 | I41: 132 | J41: 宇和島南
C42: 39 | D42: 菊間 | F42: 86 | G42: 伊予
C43: 40 | D43: 大島 | F43: 87 | G43: 中山
C44: 41 | D44: 伯方 | F44: 88 | G44: 双海
C45: 42 | D45: 大三島 | F45: 89 | G45: 北伊予
C46: 43 | D46: 関前 | F46: 90 | G46: 岡田
C47: 44 | D47: 魚島 | F47: 91 | G47: 松前
C48: 45 | D48: 弓削 | F48: 92 | G48: 砥部
C49: 46 | D49: 岩城 | F49: 93 | G49: 久万
C50: 47 | D50: 今治東 | F50: 94 | G50: 美川

Sheet チーム情報
A1: 1 | B1: 2 | C1: 3 | D1: 4 | E1: 5 | F1: 6 | G1: 7 | H1: 8 | I1: 9 | J1: 10 | K1: 11 | L1: 12 | M1: 13
A2: 番号 | B2: 男子ＩＤ | C2: 女子ＩＤ | D2: 郡市 | E2: 学校名 | F2: 中学校 | H2: 通称 | I2: 男女 | J2: 学校郵便番号 | K2: 住所 | L2: 電話 | M2: ＦＡＸ | O2: 番号 | P2: 松山 | Q2: 郡市名 | R2: 立 | S2: 学校名 | T2: 中学校 | U2: 通称 | V2: 学校郵便番号1 | W2: 学校郵便番号2 | X2: 学校住所1 | Y2: 学校住所2 | Z2: 電話 | AA2: ＦＡＸ | AC2: 学校郵便番号0 | AD2: 学校郵便番号2 | AF2: 学校郵便番号2 | AH2: 男子ID | AI2: 女子ID
A3: 1 | B3: T10355367 | C3: T10218884 | D3: 四国中央市立 | E3: 川之江北 | F3: 中学校 | G3: =D3&" "&E3&" "&F3 -> 四国中央市立 川之江北 中学校 | H3: 川之江北 | J3: ７９９－０１０１ | K3: 四国中央市川之江町２３９０ | L3: ０８９６－２８－６２８７ | M3: ０８９６－２８－６１９８ | O3: 1 | Q3: 四国中央市 | R3: 立 | S3: 川之江北 | T3: 中学校 | U3: 川之江北 | V3: ７９９ | W3: ０１０１ | X3: 四国中央市川之江町２３９０ | Z3: 0896－28－6287 | AA3: 0896－28－6198 | AC3: 799-0101 | AD3: 799 | AE3: - | AF3: 0101 | AH3: 433653292 | AI3: 432243313
A4: 2 | B4: T10214657 | C4: T10316313 | D4: 四国中央市立 | E4: 川之江南 | F4: 中学校 | G4: =D4&" "&E4&" "&F4 -> 四国中央市立 川之江南 中学校 | H4: 川之江南 | J4: ７９９－０１２１ | K4: 四国中央市上分町３９５ | L4: ０８９６－２８－６２８６ | M4: ０８９６－２８－６１９７ | O4: 2 | Q4: 四国中央市 | R4: 立 | S4: 川之江南 | T4: 中学校 | U4: 川之江南 | V4: ７９９ | W4: ０１２１ | X4: 四国中央市上分町３９５ | Z4: 0896－28－6286 | AA4: 0896－28－6197 | AC4: 799-0121 | AD4: 799 | AE4: - | AF4: 0121 | AH4: 432199997 | AI4: 433260802
A5: 3 | C5: T10262016 | D5: 四国中央市立 | E5: 三島西 | F5: 中学校 | G5: =D5&" "&E5&" "&F5 -> 四国中央市立 三島西 中学校 | H5: 三島西 | J5: ７９９－０４２２ | K5: 四国中央市中之庄町乙３８－１ | L5: ０８９６－２８－６１００ | M5: ０８９６－２８－６１２２ | O5: 3 | Q5: 四国中央市 | R5: 立 | S5: 三島西 | T5: 中学校 | U5: 三島西 | V5: ７９９ | W5: ０４２２ | X5: 四国中央市中之庄町乙３８－１ | Z5: 0896－28－6100 | AA5: 0896－28－6122 | AC5: 799-0422 | AD5: 799 | AE5: - | AF5: 0422 | AI5: 432675620
A6: 4 | B6: T10355664 | C6: T10209578 | D6: 四国中央市立 | E6: 三島南 | F6: 中学校 | G6: =D6&" "&E6&" "&F6 -> 四国中央市立 三島南 中学校 | H6: 三島南 | J6: ７９９－０４３１ | K6: 四国中央市寒川町４３３５ | L6: ０８９６－２８－６０９９ | M6: ０８９６－２８－６１２１ | O6: 4 | Q6: 四国中央市 | R6: 立 | S6: 三島南 | T6: 中学校 | U6: 三島南 | V6: ７９９ | W6: ０４３１ | X6: 四国中央市寒川町４３３５ | Z6: 0896－28－6099 | AA6: 0896－28－6121 | AC6: 799-0431 | AD6: 799 | AE6: - | AF6: 0431 | AH6: 433656247 | AI6: 432147905
A7: 5 | B7: T10262443 | C7: T10262436 | D7: 四国中央市立 | E7: 三島東 | F7: 中学校 | G7: =D7&" "&E7&" "&F7 -> 四国中央市立 三島東 中学校 | H7: 三島東 | J7: ７９９－０４１３ | K7: 四国中央市中曽根町１９９ | L7: ０８９６－２８－６０９８ | M7: ０８９６－２８－６１２０ | O7: 5 | Q7: 四国中央市 | R7: 立 | S7: 三島東 | T7: 中学校 | U7: 三島東 | V7: ７９９ | W7: ０４１３ | X7: 四国中央市中曽根町１９９ | Z7: 0896－28－6098 | AA7: 0896－28－6120 | AC7: 799-0413 | AD7: 799 | AE7: - | AF7: 0413 | AH7: 432679932 | AI7: 432679805
A8: 6 | B8: T10261675 | C8: T10228876 | D8: 四国中央市立 | E8: 土居 | F8: 中学校 | G8: =D8&" "&E8&" "&F8 -> 四国中央市立 土居 中学校 | H8: 土居 | J8: ７９９－０７１１ | K8: 四国中央市土居町土居３７５ | L8: ０８９６－２８－６３７１ | M8: ０８９６－２８－６３８５ | O8: 6 | Q8: 四国中央市 | R8: 立 | S8: 土居 | T8: 中学校 | U8: 土居 | V8: ７９９ | W8: ０７１１ | X8: 四国中央市土居町土居３７５ | Z8: 0896－28－6371 | AA8: 0896－28－6385 | AC8: 799-0711 | AD8: 799 | AE8: - | AF8: 0711 | AH8: 432672200 | AI8: 432344247
A9: 7 | D9: 四国中央市立 | E9: 新宮 | F9: 中学校 | G9: =D9&" "&E9&" "&F9 -> 四国中央市立 新宮 中学校 | H9: 新宮 | J9: ７９９－０３０３ | K9: 四国中央市新宮町新宮１０５ | L9: ０８９６－２８－６４２４ | M9: ０８９６－２８－６４２５ | O9: 7 | Q9: 四国中央市 | R9: 立 | S9: 新宮 | T9: 中学校 | U9: 新宮 | V9: ７９９ | W9: ０３０３ | X9: 四国中央市新宮町新宮１０５ | Z9: 0896－28－6424 | AA9: 0896－28－6425 | AC9: 799-0303 | AD9: 799 | AE9: - | AF9: 0303 | AH9: 432788969
A10: 8 | B10: T10475492 | C10: T10533192 | D10: 新居浜市立 | E10: 東 | F10: 中学校 | G10: =D10&" "&E10&" "&F10 -> 新居浜市立 東 中学校 | H10: 新居浜東 | J10: ７９２－０８６４ | K10: 新居浜市東雲町１丁目４番２３号 | L10: ０８９７－３７－１２９４ | M10: ０８９７－３７－１０３８ | O10: 8 | Q10: 新居浜市 | R10: 立 | S10: 東 | T10: 中学校 | U10: 新居浜東 | V10: ７９２ | W10: ０８６４ | X10: 新居浜市東雲町１丁目４番２３号 | Z10: 0897－37－1294 | AA10: 0897－37－1038 | AC10: 792-0864 | AD10: 792 | AE10: - | AF10: 0864 | AH10: 434996017 | AI10: 435655301
A11: 9 | D11: 新居浜市立 | E11: 西 | F11: 中学校 | G11: =D11&" "&E11&" "&F11 -> 新居浜市立 西 中学校 | H11: 新居浜西 | J11: ７９２－０００５ | K11: 新居浜市江口町７番１号 | L11: ０８９７－３７－２０２１ | M11: ０８９７－３７－２０２３ | O11: 9 | Q11: 新居浜市 | R11: 立 | S11: 西 | T11: 中学校 | U11: 新居浜西 | V11: ７９２ | W11: ０００５ | X11: 新居浜市江口町７番１号 | Z11: 0897－37－2021 | AA11: 0897－37－2023 | AC11: 792-0005 | AD11: 792 | AE11: - | AF11: 0005 | AI11: 433745808
A12: 10 | B12: T10260692 | C12: T10472217 | D12: 新居浜市立 | E12: 南 | F12: 中学校 | G12: =D12&" "&E12&" "&F12 -> 新居浜市立 南 中学校 | H12: 新居浜南 | J12: ７９２－０８１１ | K12: 新居浜市庄内町２丁目４番４７号 | L12: ０８９７－３７－０３１０ | M12: ０８９７－３７－５３９２ | O12: 10 | Q12: 新居浜市 | R12: 立 | S12: 南 | T12: 中学校 | U12: 新居浜南 | V12: ７９２ | W12: ０８１１ | X12: 新居浜市庄内町２丁目４番４７号 | Z12: 0897－37－0310 | AA12: 0897－37－5392 | AC12: 792-0811 | AD12: 792 | AE12: - | AF12: 0811 | AH12: 432662459 | AI12: 434963270
A13: 11 | C13: T10533161 | D13: 新居浜市立 | E13: 北 | F13: 中学校 | G13: =D13&" "&E13&" "&F13 -> 新居浜市立 北 中学校 | H13: 新居浜北 | J13: ７９２－００２４ | K13: 新居浜市宮西町５番８１号 | L13: ０８９７－３３－９１３５ | M13: ０８９７－３３－９１３６ | O13: 11 | Q13: 新居浜市 | R13: 立 | S13: 北 | T13: 中学校 | U13: 新居浜北 | V13: ７９２ | W13: ００２４ | X13: 新居浜市宮西町５番８１号 | Z13: 0897－33－9135 | AA13: 0897－33－9136 | AC13: 792-0024 | AD13: 792 | AE13: - | AF13: 0024 | AI13: 435655004
A14: 12 | C14: T10409381 | D14: 新居浜市立 | E14: 泉川 | F14: 中学校 | G14: =D14&" "&E14&" "&F14 -> 新居浜市立 泉川 中学校 | H14: 泉川 | J14: ７９２－０８２５ | K14: 新居浜市星原町７番８号 | L14: ０８９７－４３－５８００ | M14: ０８９７－４３－５８２１ | O14: 12 | Q14: 新居浜市 | R14: 立 | S14: 泉川 | T14: 中学校 | U14: 泉川 | V14: ７９２ | W14: ０８２５ | X14: 新居浜市星原町７番８号 | Z14: 0897－43－5800 | AA14: 0897－43－5821 | AC14: 792-0825 | AD14: 792 | AE14: - | AF14: 0825 | AI14: 434333979
A15: 13 | C15: T10658918 | D15: 新居浜市立 | E15: 船木 | F15: 中学校 | G15: =D15&" "&E15&" "&F15 -> 新居浜市立 船木 中学校 | H15: 船木 | J15: ７９２－０８５６ | K15: 新居浜市船木３７５４番地の１ | L15: ０８９７－４１－６３４７ | M15: ０８９７－４１－６３６４ | O15: 13 | Q15: 新居浜市 | R15: 立 | S15: 船木 | T15: 中学校 | U15: 船木 | V15: ７９２ | W15: ０８５６ | X15: 新居浜市船木３７５４番地の１ | Z15: 0897－41－6347 | AA15: 0897－41－6364 | AC15: 792-0856 | AD15: 792 | AE15: - | AF15: 0856 | AI15: 433059824
A16: 14 | B16: T10269886 | C16: T10333174 | D16: 新居浜市立 | E16: 中萩 | F16: 中学校 | G16: =D16&" "&E16&" "&F16 -> 新居浜市立 中萩 中学校 | H16: 中萩 | J16: ７９２－００４５ | K16: 新居浜市中萩町１３－３１ | L16: ０８９７－４３－５１３１ | M16: ０８９７－４３－５１３２ | O16: 14 | Q16: 新居浜市 | R16: 立 | S16: 中萩 | T16: 中学校 | U16: 中萩 | V16: ７９２ | W16: ００４５ | X16: 新居浜市中萩町１３－３１ | Z16: 0897－43－5131 | AA16: 0897－43－5132 | AC16: 792-0045 | AD16: 792 | AE16: - | AF16: 0045 | AH16: 432779268 | AI16: 433430919
A17: 15 | C17: T10333273 | D17: 新居浜市立 | E17: 大生院 | F17: 中学校 | G17: =D17&" "&E17&" "&F17 -> 新居浜市立 大生院 中学校 | H17: 大生院 | J17: ７９２－００６０ | K17: 新居浜市大生院１０７０番地の２ | L17: ０８９７－４１－６９２７ | M17: ０８９７－４１－６２２９ | O17: 15 | Q17: 新居浜市 | R17: 立 | S17: 大生院 | T17: 中学校 | U17: 大生院 | V17: ７９２ | W17: ００６０ | X17: 新居浜市大生院１０７０番地の２ | Z17: 0897－41－6927 | AA17: 0897－41－6229 | AC17: 792-0060 | AD17: 792 | AE17: - | AF17: 0060
A18: 16 | D18: 新居浜市立 | E18: 角野 | F18: 中学校 | G18: =D18&" "&E18&" "&F18 -> 新居浜市立 角野 中学校 | H18: 角野 | J18: ７９２－０８３３ | K18: 新居浜市宮原町１１番５１号 | L18: ０８９７－４３－６１０８ | M18: ０８９７－４３－６１０９ | O18: 16 | Q18: 新居浜市 | R18: 立 | S18: 角野 | T18: 中学校 | U18: 角野 | V18: ７９２ | W18: ０８３３ | X18: 新居浜市宮原町１１番５１号 | Z18: 0897－43－6108 | AA18: 0897－43－6109 | AC18: 792-0833 | AD18: 792 | AE18: - | AF18: 0833 | AI18: 433431983
A19: 17 | B19: T10230466 | C19: T10231968 | D19: 新居浜市立 | E19: 川東 | F19: 中学校 | G19: =D19&" "&E19&" "&F19 -> 新居浜市立 川東 中学校 | H19: 川東 | J19: ７９２－０８８４ | K19: 新居浜市神郷２丁目４番１号 | L19: ０８９７－４５－０１８０ | M19: ０８９７－４５－０１４４ | O19: 17 | Q19: 新居浜市 | R19: 立 | S19: 川東 | T19: 中学校 | U19: 川東 | V19: ７９２ | W19: ０８８４ | X19: 新居浜市神郷２丁目４番１号 | Z19: 0897－45－0180 | AA19: 0897－45－0144 | AC19: 792-0884 | AD19: 792 | AE19: - | AF19: 0884 | AH19: 432360195 | AI19: 432375137
A20: 18 | D20: 新居浜市立 | E20: 別子 | F20: 中学校 | G20: =D20&" "&E20&" "&F20 -> 新居浜市立 別子 中学校 | H20: 別子 | J20: ７９９－０６５０ | K20: 新居浜市別子山甲３５８ | L20: ０８９７－６４－２１１５ | M20: ０８９７－６４－２３２１ | O20: 18 | Q20: 新居浜市 | R20: 立 | S20: 別子 | T20: 中学校 | U20: 別子 | V20: ７９９ | W20: ０６５０ | X20: 新居浜市別子山甲３５８ | Z20: 0897－64－2115 | AA20: 0897－64－2321 | AC20: 799-0650 | AD20: 799 | AE20: - | AF20: 0650
A21: 19 | C21: T10248355 | D21: 西条市立 | E21: 西条東 | F21: 中学校 | G21: =D21&" "&E21&" "&F21 -> 西条市立 西条東 中学校 | H21: 西条東 | J21: ７９３－０００６ | K21: 西条市下島山甲８６５ | L21: ０８９７－５６－２６５３ | M21: ０８９７－５６－３５２５ | O21: 19 | Q21: 西条市 | R21: 立 | S21: 西条東 | T21: 中学校 | U21: 西条東 | V21: ７９３ | W21: ０００６ | X21: 西条市下島山甲８６５ | Z21: 0897－56－2653 | AA21: 0897－56－3525 | AC21: 793-0006 | AD21: 793 | AE21: - | AF21: 0006 | AI21: 432539053
A22: 20 | C22: T10259351 | D22: 西条市立 | E22: 西条西 | F22: 中学校 | G22: =D22&" "&E22&" "&F22 -> 西条市立 西条西 中学校 | H22: 西条西 | J22: ７９３－００７２ | K22: 西条市氷見乙５５８ | L22: ０８９７－５７－９４３４ | M22: ０８９７－５７－６１２３ | O22: 20 | Q22: 西条市 | R22: 立 | S22: 西条西 | T22: 中学校 | U22: 西条西 | V22: ７９３ | W22: ００７２ | X22: 西条市氷見乙５５８ | Z22: 0897－57－9434 | AA22: 0897－57－6123 | AC22: 793-0072 | AD22: 793 | AE22: - | AF22: 0072 | AI22: 432649009
A23: 21 | C23: T10247884 | D23: 西条市立 | E23: 西条南 | F23: 中学校 | G23: =D23&" "&E23&" "&F23 -> 西条市立 西条南 中学校 | H23: 西条南 | J23: ７９３－００３０ | K23: 西条市大町１１２０ | L23: ０８９７－５６－０３８０ | M23: ０８９７－５６－３６２０ | O23: 21 | Q23: 西条市 | R23: 立 | S23: 西条南 | T23: 中学校 | U23: 西条南 | V23: ７９３ | W23: ００３０ | X23: 西条市大町１１２０ | Z23: 0897－56－0380 | AA23: 0897－56－3620 | AC23: 793-0030 | AD23: 793 | AE23: - | AF23: 0030 | AI23: 432534383
A24: 22 | B24: T10245422 | C24: T10245828 | D24: 西条市立 | E24: 西条北 | F24: 中学校 | G24: =D24&" "&E24&" "&F24 -> 西条市立 西条北 中学校 | H24: 西条北 | J24: ７９３－００２７ | K24: 西条市朔日市４００－１ | L24: ０８９７－５６－０１７０ | M24: ０８９７－５６－３７０７ | O24: 22 | Q24: 西条市 | R24: 立 | S24: 西条北 | T24: 中学校 | U24: 西条北 | V24: ７９３ | W24: ００２７ | X24: 西条市朔日市４００－１ | Z24: 0897－56－0170 | AA24: 0897－56－3707 | AC24: 793-0027 | AD24: 793 | AE24: - | AF24: 0027 | AH24: 432509771 | AI24: 432513702
A25: 23 | B25: T10245453 | C25: T10262221 | D25: 西条市立 | E25: 小松 | F25: 中学校 | G25: =D25&" "&E25&" "&F25 -> 西条市立 小松 中学校 | H25: 小松 | J25: ７９９－１１０２ | K25: 西条市小松町南川甲２０８ | L25: ０８９８－７２－２７４４ | M25: ０８９８－７２－３５８７ | O25: 23 | Q25: 西条市 | R25: 立 | S25: 小松 | T25: 中学校 | U25: 小松 | V25: ７９９ | W25: １１０２ | X25: 西条市小松町南川甲２０８ | Z25: 0898－72－2744 | AA25: 0898－72－3587 | AC25: 799-1102 | AD25: 799 | AE25: - | AF25: 1102 | AH25: 432510077 | AI25: 432677705
A26: 24 | C26: T10315798 | D26: 西条市立 | E26: 東予西 | F26: 中学校 | G26: =D26&" "&E26&" "&F26 -> 西条市立 東予西 中学校 | H26: 東予西 | J26: ７９９－１３２２ | K26: 西条市国安９９６番地 | L26: ０８９８－６６－５０４２ | M26: ０８９８－６６－５６１９ | O26: 24 | Q26: 西条市 | R26: 立 | S26: 東予西 | T26: 中学校 | U26: 東予西 | V26: ７９９ | W26: １３２２ | X26: 西条市国安９９６番地 | Z26: 0898－66－5042 | AA26: 0898－66－5619 | AC26: 799-1322 | AD26: 799 | AE26: - | AF26: 1322 | AI26: 433255688
A27: 25 | C27: T10221655 | D27: 西条市立 | E27: 河北 | F27: 中学校 | G27: =D27&" "&E27&" "&F27 -> 西条市立 河北 中学校 | H27: 河北 | J27: ７９９－１３１１ | K27: 西条市宮之内２８４ | L27: ０８９８－６６－５０４４ | M27: ０８９８－６６－５７８９ | O27: 25 | Q27: 西条市 | R27: 立 | S27: 河北 | T27: 中学校 | U27: 河北 | V27: ７９９ | W27: １３１１ | X27: 西条市宮之内２８４ | Z27: 0898－66－5044 | AA27: 0898－66－5789 | AC27: 799-1311 | AD27: 799 | AE27: - | AF27: 1311 | AI27: 432271409
A28: 26 | B28: T10197080 | C28: T10249857 | D28: 西条市立 | E28: 東予東 | F28: 中学校 | G28: =D28&" "&E28&" "&F28 -> 西条市立 東予東 中学校 | H28: 東予東 | J28: ７９９－１３７１ | K28: 西条市周布１６０ | L28: ０８９８－６４－２１３２ | M28: ０８９８－６４－２１６１ | O28: 26 | Q28: 西条市 | R28: 立 | S28: 東予東 | T28: 中学校 | U28: 東予東 | V28: ７９９ | W28: １３７１ | X28: 西条市周布１６０ | Z28: 0898－64－2132 | AA28: 0898－64－2161 | AC28: 799-1371 | AD28: 799 | AE28: - | AF28: 1371 | AH28: 432016460 | AI28: 432554082
A29: 27 | B29: T10148006 | D29: 西条市立 | E29: 丹原東 | F29: 中学校 | G29: =D29&" "&E29&" "&F29 -> 西条市立 丹原東 中学校 | H29: 丹原東 | J29: ７９１－０５０３ | K29: 西条市丹原町今井４－１ | L29: ０８９８－６８－７０５４ | M29: ０８９８－６８－５０３５ | O29: 27 | Q29: 西条市 | R29: 立 | S29: 丹原東 | T29: 中学校 | U29: 丹原東 | V29: ７９１ | W29: ０５０３ | X29: 西条市丹原町今井４－１ | Z29: 0898－68－7054 | AA29: 0898－68－5035 | AC29: 791-0503 | AD29: 791 | AE29: - | AF29: 0503 | AH29: 431512299 | AI29: 431592602
A30: 28 | D30: 西条市立 | E30: 丹原西 | F30: 中学校 | G30: =D30&" "&E30&" "&F30 -> 西条市立 丹原西 中学校 | H30: 丹原西 | J30: ７９１－０５３１ | K30: 西条市丹原町来見甲１５－１ | L30: ０８９８－７３－２３０２ | M30: ０８９８－７３－２１６１ | O30: 28 | Q30: 西条市 | R30: 立 | S30: 丹原西 | T30: 中学校 | U30: 丹原西 | V30: ７９１ | W30: ０５３１ | X30: 西条市丹原町来見甲１５－１ | Z30: 0898－73－2302 | AA30: 0898－73－2161 | AC30: 791-0531 | AD30: 791 | AE30: - | AF30: 0531
A31: 29 | C31: T10431948 | D31: 今治市立 | E31: 日吉 | F31: 中学校 | G31: =D31&" "&E31&" "&F31 -> 今治市立 日吉 中学校 | H31: 日吉 | J31: ７９４－００５５ | K31: 今治市中日吉町１丁目３番７０号 | L31: ０８９８－２２－０７３１ | M31: ０８９８－２５－００５６ | O31: 29 | Q31: 今治市 | R31: 立 | S31: 日吉 | T31: 中学校 | U31: 日吉 | V31: ７９４ | W31: ００５５ | X31: 今治市中日吉町１丁目３番７０号 | Z31: 0898－22－0731 | AA31: 0898－25－0056 | AC31: 794-0055 | AD31: 794 | AE31: - | AF31: 0055 | AI31: 434560521
A32: 30 | D32: 今治市立 | E32: 近見 | F32: 中学校 | G32: =D32&" "&E32&" "&F32 -> 今治市立 近見 中学校 | H32: 近見 | J32: ７９４－０００７ | K32: 今治市近見町４丁目２－５７ | L32: ０８９８－２２－１０９４ | M32: ０８９８－２５－００５８ | O32: 30 | Q32: 今治市 | R32: 立 | S32: 近見 | T32: 中学校 | U32: 近見 | V32: ７９４ | W32: ０００７ | X32: 今治市近見町４丁目２－５７ | Z32: 0898－22－1094 | AA32: 0898－25－0058 | AC32: 794-0007 | AD32: 794 | AE32: - | AF32: 0007
A33: 31 | B33: T10133255 | C33: T10133149 | D33: 今治市立 | E33: 立花 | F33: 中学校 | G33: =D33&" "&E33&" "&F33 -> 今治市立 立花 中学校 | H33: 立花 | J33: ７９４－０８２１ | K33: 今治市立花町２丁目８番７号 | L33: ０８９８－３２－１０９５ | M33: ０８９８－２５－００６１ | O33: 31 | Q33: 今治市 | R33: 立 | S33: 立花 | T33: 中学校 | U33: 立花 | V33: ７９４ | W33: ０８２１ | X33: 今治市立花町２丁目８番７号 | Z33: 0898－32－1095 | AA33: 0898－25－0061 | AC33: 794-0821 | AD33: 794 | AE33: - | AF33: 0821 | AH33: 431357207 | AI33: 431356144
A34: 32 | D34: 今治市立 | E34: 桜井 | F34: 中学校 | G34: =D34&" "&E34&" "&F34 -> 今治市立 桜井 中学校 | H34: 桜井 | J34: ７９９－１５２３ | K34: 今治市郷桜井１丁目８番８号 | L34: ０８９８－４８－０１５０ | M34: ０８９８－４８－６５１０ | O34: 32 | Q34: 今治市 | R34: 立 | S34: 桜井 | T34: 中学校 | U34: 桜井 | V34: ７９９ | W34: １５２３ | X34: 今治市郷桜井１丁目８番８号 | Z34: 0898－48－0150 | AA34: 0898－48－6510 | AC34: 799-1523 | AD34: 799 | AE34: - | AF34: 1523 | AI34: 431679002
A35: 33 | B35: T10100028 | C35: T10099834 | D35: 今治市立 | E35: 南 | F35: 中学校 | G35: =D35&" "&E35&" "&F35 -> 今治市立 南 中学校 | H35: 今治南 | J35: ７９９－１５１３ | K35: 今治市松木３４９－１ | L35: ０８９８－４８－２５４６ | M35: ０８９８－４８－６５１８ | O35: 33 | Q35: 今治市 | R35: 立 | S35: 南 | T35: 中学校 | U35: 今治南 | V35: ７９９ | W35: １５１３ | X35: 今治市松木３４９－１ | Z35: 0898－48－2546 | AA35: 0898－48－6518 | AC35: 799-1513 | AD35: 799 | AE35: - | AF35: 1513 | AH35: 431016921 | AI35: 431014929
A36: 34 | B36: T10183410 | C36: T10171660 | D36: 今治市立 | E36: 西 | F36: 中学校 | G36: =D36&" "&E36&" "&F36 -> 今治市立 西 中学校 | H36: 今治西 | J36: ７９４－００７２ | K36: 今治市山路５５４－３ | L36: ０８９８－２２－０４１１ | M36: ０８９８－２５－００６３ | O36: 34 | Q36: 今治市 | R36: 立 | S36: 西 | T36: 中学校 | U36: 今治西 | V36: ７９４ | W36: ００７２ | X36: 今治市山路５５４－３ | Z36: 0898－22－0411 | AA36: 0898－25－0063 | AC36: 794-0072 | AD36: 794 | AE36: - | AF36: 0072 | AH36: 431877187 | AI36: 431757025
A37: 35 | C37: T10175361 | D37: 今治市立 | E37: 北郷 | F37: 中学校 | G37: =D37&" "&E37&" "&F37 -> 今治市立 北郷 中学校 | H37: 北郷 | J37: ７９９－２１１５ | K37: 今治市中堀４丁目１－１ | L37: ０８９８－４１－９０５１ | M37: ０８９８－４３－００２１ | O37: 35 | Q37: 今治市 | R37: 立 | S37: 北郷 | T37: 中学校 | U37: 北郷 | V37: ７９９ | W37: ２１１５ | X37: 今治市中堀４丁目１－１ | Z37: 0898－41－9051 | AA37: 0898－43－0021 | AC37: 799-2115 | AD37: 799 | AE37: - | AF37: 2115 | AI37: 431794807
A38: 36 | C38: T10197608 | D38: 今治市立 | E38: 朝倉 | F38: 中学校 | G38: =D38&" "&E38&" "&F38 -> 今治市立 朝倉 中学校 | H38: 朝倉 | J38: ７９９－１６０４ | K38: 今治市朝倉北甲２７３ | L38: ０８９８－５６－２０１６ | M38: ０８９８－３６－７０１４ | O38: 36 | Q38: 今治市 | R38: 立 | S38: 朝倉 | T38: 中学校 | U38: 朝倉 | V38: ７９９ | W38: １６０４ | X38: 今治市朝倉北甲２７３ | Z38: 0898－56－2016 | AA38: 0898－36－7014 | AC38: 799-1604 | AD38: 799 | AE38: - | AF38: 1604 | AI38: 432021843
A39: 37 | D39: 今治市立 | E39: 玉川 | F39: 中学校 | G39: =D39&" "&E39&" "&F39 -> 今治市立 玉川 中学校 | H39: 玉川 | J39: ７９４－０１１５ | K39: 今治市玉川町高野甲２１ | L39: ０８９８－５５－２０１９ | M39: ０８９８－５５－３１８１ | O39: 37 | Q39: 今治市 | R39: 立 | S39: 玉川 | T39: 中学校 | U39: 玉川 | V39: ７９４ | W39: ０１１５ | X39: 今治市玉川町高野甲２１ | Z39: 0898－55－2019 | AA39: 0898－55－3181 | AC39: 794-0115 | AD39: 794 | AE39: - | AF39: 0115 | AI39: 432918572
A40: 38 | C40: T1043209 | D40: 今治市立 | E40: 大西 | F40: 中学校 | G40: =D40&" "&E40&" "&F40 -> 今治市立 大西 中学校 | H40: 大西 | J40: ７９９－２２０１ | K40: 今治市大西町九王甲２２８０－１ | L40: ０８９８－５３－２０３８ | M40: ０８９８－５３－５５１５ | O40: 38 | Q40: 今治市 | R40: 立 | S40: 大西 | T40: 中学校 | U40: 大西 | V40: ７９９ | W40: ２２０１ | X40: 今治市大西町九王甲２２８０－１ | Z40: 0898－53－2038 | AA40: 0898－53－5515 | AC40: 799-2201 | AD40: 799 | AE40: - | AF40: 2201 | AI40: 431462543
A41: 39 | B41: T10090688 | C41: T10090893 | D41: 今治市立 | E41: 菊間 | F41: 中学校 | G41: =D41&" "&E41&" "&F41 -> 今治市立 菊間 中学校 | H41: 菊間 | J41: ７９９－２３０３ | K41: 今治市菊間町浜２６２８－１ | L41: ０８９８－５４－２０６９ | M41: ０８９８－５４－２２１９ | O41: 39 | Q41: 今治市 | R41: 立 | S41: 菊間 | T41: 中学校 | U41: 菊間 | V41: ７９９ | W41: ２３０３ | X41: 今治市菊間町浜２６２８－１ | Z41: 0898－54－2069 | AA41: 0898－54－2219 | AC41: 799-2303 | AD41: 799 | AE41: - | AF41: 2303 | AH41: 430922399 | AI41: 430924447
A42: 40 | C42: T10463284 | D42: 今治市立 | E42: 大島 | F42: 中学校 | G42: =D42&" "&E42&" "&F42 -> 今治市立 大島 中学校 | H42: 大島 | J42: ７９４－２１１１ | K42: 今治市吉海町幸新田２５０ | L42: ０８９７－８４－２７０６ | M42: ０８９７－８４－３９８２ | O42: 40 | Q42: 今治市 | R42: 立 | S42: 大島 | T42: 中学校 | U42: 大島 | V42: ７９４ | W42: ２１１１ | X42: 今治市吉海町幸新田２５０ | Z42: 0897－84－2706 | AA42: 0897－84－3982 | AC42: 794-2111 | AD42: 794 | AE42: - | AF42: 2111 | AI42: 434873992
A43: 41 | C43: T10181799 | D43: 今治市立 | E43: 伯方 | F43: 中学校 | G43: =D43&" "&E43&" "&F43 -> 今治市立 伯方 中学校 | H43: 伯方 | J43: ７９４－２３０５ | K43: 今治市伯方町木浦甲４１３４－１ | L43: ０８９７－７２－１０５５ | M43: ０８９７－７２－１０５３ | O43: 41 | Q43: 今治市 | R43: 立 | S43: 伯方 | T43: 中学校 | U43: 伯方 | V43: ７９４ | W43: ２３０５ | X43: 今治市伯方町木浦甲４１３４－１ | Z43: 0897－72－1055 | AA43: 0897－72－1053 | AC43: 794-2305 | AD43: 794 | AE43: - | AF43: 2305 | AI43: 431860025
A44: 42 | D44: 今治市立 | E44: 大三島 | F44: 中学校 | G44: =D44&" "&E44&" "&F44 -> 今治市立 大三島 中学校 | H44: 大三島 | J44: ７９４－１４０２ | K44: 今治市上浦町井口５６１０ | L44: ０８９７－８７－３４００ | M44: ０８９７－８７－３４０１ | O44: 42 | Q44: 今治市 | R44: 立 | S44: 大三島 | T44: 中学校 | U44: 大三島 | V44: ７９４ | W44: １４０２ | X44: 今治市上浦町井口５６１０ | Z44: 0897－87－3400 | AA44: 0897－87－3401 | AC44: 794-1402 | AD44: 794 | AE44: - | AF44: 1402 | AI44: 433303827
A45: 43 | D45: 今治市立 | E45: 関前 | F45: 中学校 | G45: =D45&" "&E45&" "&F45 -> 今治市立 関前 中学校 | H45: 関前 | J45: ７９４－１１０１ | K45: 今治市関前岡村甲４１５ | L45: ０８９７－８８－２１０４ | M45: ０８９７－８８－２４０１ | O45: 43 | Q45: 今治市 | R45: 立 | S45: 関前 | T45: 中学校 | U45: 関前 | V45: ７９４ | W45: １１０１ | X45: 今治市関前岡村甲４１５ | Z45: 0897－88－2104 | AA45: 0897－88－2401 | AC45: 794-1101 | AD45: 794 | AE45: - | AF45: 1101
A46: 44 | D46: 上島町立 | E46: 魚島 | F46: 中学校 | G46: =D46&" "&E46&" "&F46 -> 上島町立 魚島 中学校 | H46: 魚島 | J46: ７９４－２５４０ | K46: 越智郡上島町魚島一番耕地８２８ | L46: ０８９７－７８－０３１５ | M46: ０８９７－７４－１１０３ | O46: 44 | Q46: 上島町 | R46: 立 | S46: 魚島 | T46: 中学校 | U46: 魚島 | V46: ７９４ | W46: ２５４０ | X46: 越智郡上島町魚島一番耕地８２８ | Z46: 0897－78－0315 | AA46: 0897－74－1103 | AC46: 794-2540 | AD46: 794 | AE46: - | AF46: 2540
A47: 45 | D47: 上島町立 | E47: 弓削 | F47: 中学校 | G47: =D47&" "&E47&" "&F47 -> 上島町立 弓削 中学校 | H47: 弓削 | J47: ７９４－２５０５ | K47: 越智郡上島町弓削明神１－１ | L47: ０８９７－７７－２０１２ | M47: ０８９７－７７－２０２８ | O47: 45 | Q47: 上島町 | R47: 立 | S47: 弓削 | T47: 中学校 | U47: 弓削 | V47: ７９４ | W47: ２５０５ | X47: 越智郡上島町弓削明神１－１ | Z47: 0897－77－2012 | AA47: 0897－77－2028 | AC47: 794-2505 | AD47: 794 | AE47: - | AF47: 2505
A48: 46 | D48: 上島町立 | E48: 岩城 | F48: 中学校 | G48: =D48&" "&E48&" "&F48 -> 上島町立 岩城 中学校 | H48: 岩城 | J48: ７９４－２４１０ | K48: 越智郡上島町岩城１２１８ | L48: ０８９７－７５－２０１９ | M48: ０８９７－７４－０７６０ | O48: 46 | Q48: 上島町 | R48: 立 | S48: 岩城 | T48: 中学校 | U48: 岩城 | V48: ７９４ | W48: ２４１０ | X48: 越智郡上島町岩城１２１８ | Z48: 0897－75－2019 | AA48: 0897－74－0760 | AC48: 794-2410 | AD48: 794 | AE48: - | AF48: 2410
A49: 47 | C49: T10149034 | D49: 愛媛県立 | E49: 今治東 | F49: 中等教育学校 | G49: =D49&" "&E49&" "&F49 -> 愛媛県立 今治東 中等教育学校 | H49: 今治東 | J49: ７９９－１５９６ | K49: 今治市桜井２丁目９番１号 | L49: ０８９８－４７－３６３０ | M49: ０８９８－４７－４１４６ | O49: 47 | Q49: 愛媛県 | R49: 立 | S49: 今治東 | T49: 中等教育学校 | U49: 今治東 | V49: ７９９ | W49: １５９６ | X49: 今治市桜井２丁目９番１号 | Z49: 0898－47－3630 | AA49: 0898－47－4146 | AC49: 799-1596 | AD49: 799 | AE49: - | AF49: 1596 | AI49: 431522641
A50: 48 | C50: T10149669 | D50: 松山市立 | E50: 拓南 | F50: 中学校 | G50: =D50&" "&E50&" "&F50 -> 松山市立 拓南 中学校 | H50: 拓南 | J50: ７９０－０９６２ | K50: 松山市枝松５丁目４番３９号 | L50: ０８９－９３１－８５１８ | M50: ０８９－９３３－９９４９ | O50: 48 | P50: 中1 | Q50: 松山市 | R50: 立 | S50: 拓南 | T50: 中学校 | U50: 拓南 | V50: ７９０ | W50: ０９６２ | X50: 松山市枝松５丁目４番３９号 | Z50: 089－931－8518 | AA50: 089－933－9949 | AC50: 790-0962 | AD50: 790 | AE50: - | AF50: 0962 | AI50: 431528986
A51: 49 | B51: T10011850 | C51: T10174579 | D51: 松山市立 | E51: 雄新 | F51: 中学校 | G51: =D51&" "&E51&" "&F51 -> 松山市立 雄新 中学校 | H51: 雄新 | J51: ７９０－００５６ | K51: 松山市土居田町１番地 | L51: ０８９－９３１－８２６１ | M51: ０８９－９３３－９９５０ | O51: 49 | P51: 中2 | Q51: 松山市 | R51: 立 | S51: 雄新 | T51: 中学校 | U51: 雄新 | V51: ７９０ | W51: ００５６ | X51: 松山市土居田町１番地 | Z51: 089－931－8261 | AA51: 089－933－9950 | AC51: 790-0056 | AD51: 790 | AE51: - | AF51: 0056 | AH51: 430121118 | AI51: 431786716
A52: 50 | C52: T10189627 | D52: 松山市立 | E52: 勝山 | F52: 中学校 | G52: =D52&" "&E52&" "&F52 -> 松山市立 勝山 中学校 | H52: 勝山 | J52: ７９０－０８２３ | K52: 松山市清水町３丁目１４８－２ | L52: ０８９－９２５－４００５ | M52: ０８９－９２５－９９２９ | O52: 50 | P52: 中3 | Q52: 松山市 | R52: 立 | S52: 勝山 | T52: 中学校 | U52: 勝山 | V52: ７９０ | W52: ０８２３ | X52: 松山市清水町３丁目１４８－２ | Z52: 089－925－4005 | AA52: 089－925－9929 | AC52: 790-0823 | AD52: 790 | AE52: - | AF52: 0823 | AI52: 431940396
A53: 51 | C53: T10185087 | D53: 松山市立 | E53: 東 | F53: 中学校 | G53: =D53&" "&E53&" "&F53 -> 松山市立 東 中学校 | H53: 松山東 | J53: ７９０－０８２６ | K53: 松山市文京町２－２ | L53: ０８９－９２４－８５８８ | M53: ０８９－９２５－９９３１ | O53: 51 | P53: 中4 | Q53: 松山市 | R53: 立 | S53: 東 | T53: 中学校 | U53: 松山東 | V53: ７９０ | W53: ０８２６ | X53: 松山市文京町２－２ | Z53: 089－924－8588 | AA53: 089－925－9931 | AC53: 790-0826 | AD53: 790 | AE53: - | AF53: 0826 | AI53: 431894742
A54: 52 | C54: T10554685 | D54: 松山市立 | E54: 道後 | F54: 中学校 | G54: =D54&" "&E54&" "&F54 -> 松山市立 道後 中学校 | H54: 道後 | J54: ７９０－０８５３ | K54: 松山市上市１丁目３番５７号 | L54: ０８９－９２１－４２０７ | M54: ０８９－９３３－９９５２ | O54: 52 | P54: 中5 | Q54: 松山市 | R54: 立 | S54: 道後 | T54: 中学校 | U54: 道後 | V54: ７９０ | W54: ０８５３ | X54: 松山市上市１丁目３番５７号 | Z54: 089－921－4207 | AA54: 089－933－9952 | AC54: 790-0853 | AD54: 790 | AE54: - | AF54: 0853 | AI54: 435870209
A55: 53 | B55: T10160626 | C55: T10207185 | D55: 松山市立 | E55: 鴨川 | F55: 中学校 | G55: =D55&" "&E55&" "&F55 -> 松山市立 鴨川 中学校 | H55: 鴨川 | J55: ７９１－８００４ | K55: 松山市鴨川２丁目７－１９ | L55: ０８９－９２４－９０４１ | M55: ０８９－９２５－９９３７ | O55: 53 | P55: 中6 | Q55: 松山市 | R55: 立 | S55: 鴨川 | T55: 中学校 | U55: 鴨川 | V55: ７９１ | W55: ８００４ | X55: 松山市鴨川２丁目７－１９ | Z55: 089－924－9041 | AA55: 089－925－9937 | AC55: 791-8004 | AD55: 791 | AE55: - | AF55: 8004 | AH55: 431642714 | AI55: 432121461
A56: 54 | B56: T10167601 | C56: T10226155 | D56: 松山市立 | E56: 内宮 | F56: 中学校 | G56: =D56&" "&E56&" "&F56 -> 松山市立 内宮 中学校 | H56: 内宮 | J56: ７９９－２６５４ | K56: 松山市内宮町５６９－１ | L56: ０８９－９７８－００４６ | M56: ０８９－９７８－５５９４ | O56: 54 | P56: 中7 | Q56: 松山市 | R56: 立 | S56: 内宮 | T56: 中学校 | U56: 内宮 | V56: ７９９ | W56: ２６５４ | X56: 松山市内宮町５６９－１ | Z56: 089－978－0046 | AA56: 089－978－5594 | AC56: 799-2654 | AD56: 799 | AE56: - | AF56: 2654 | AH56: 431714294 | AI56: 432317019
A57: 55 | C57: T10121245 | D57: 松山市立 | E57: 三津浜 | F57: 中学校 | G57: =D57&" "&E57&" "&F57 -> 松山市立 三津浜 中学校 | H57: 三津浜 | J57: ７９１－８０５３ | K57: 松山市若葉町８番４８号 | L57: ０８９－９５１－０５３１ | M57: ０８９－９５１－４９８２ | O57: 55 | P57: 中8 | Q57: 松山市 | R57: 立 | S57: 三津浜 | T57: 中学校 | U57: 三津浜 | V57: ７９１ | W57: ８０５３ | X57: 松山市若葉町８番４８号 | Z57: 089－951－0531 | AA57: 089－951－4982 | AC57: 791-8053 | AD57: 791 | AE57: - | AF57: 8053 | AI57: 431233449
A58: 56 | D58: 松山市立 | E58: 高浜 | F58: 中学校 | G58: =D58&" "&E58&" "&F58 -> 松山市立 高浜 中学校 | H58: 高浜 | J58: ７９１－８０８２ | K58: 松山市梅津寺町乙５２番地 | L58: ０８９－９５１－０４７５ | M58: ０８９－９５１－４９８８ | O58: 56 | P58: 中9 | Q58: 松山市 | R58: 立 | S58: 高浜 | T58: 中学校 | U58: 高浜 | V58: ７９１ | W58: ８０８２ | X58: 松山市梅津寺町乙５２番地 | Z58: 089－951－0475 | AA58: 089－951－4988 | AC58: 791-8082 | AD58: 791 | AE58: - | AF58: 8082 | AI58: 432249801
A59: 57 | B59: T10230916 | C59: T10197721 | D59: 松山市立 | E59: 津田 | F59: 中学校 | G59: =D59&" "&E59&" "&F59 -> 松山市立 津田 中学校 | H59: 津田 | J59: ７９１－８０３１ | K59: 松山市北斎院町１１０６番地 | L59: ０８９－９７２－００１９ | M59: ０８９－９７１－９９１５ | O59: 57 | P59: 中10 | Q59: 松山市 | R59: 立 | S59: 津田 | T59: 中学校 | U59: 津田 | V59: ７９１ | W59: ８０３１ | X59: 松山市北斎院町１１０６番地 | Z59: 089－972－0019 | AA59: 089－971－9915 | AC59: 791-8031 | AD59: 791 | AE59: - | AF59: 8031 | AH59: 432364612 | AI59: 432023014
A60: 58 | C60: T10112571 | D60: 松山市立 | E60: 垣生 | F60: 中学校 | G60: =D60&" "&E60&" "&F60 -> 松山市立 垣生 中学校 | H60: 垣生 | J60: ７９１－８０４４ | K60: 松山市西垣生町４１８ | L60: ０８９－９７２－１２２６ | M60: ０８９－９７１－９９１９ | O60: 58 | P60: 中11 | Q60: 松山市 | R60: 立 | S60: 垣生 | T60: 中学校 | U60: 垣生 | V60: ７９１ | W60: ８０４４ | X60: 松山市西垣生町４１８ | Z60: 089－972－1226 | AA60: 089－971－9919 | AC60: 791-8044 | AD60: 791 | AE60: - | AF60: 8044 | AI60: 431144558
A61: 59 | D61: 松山市立 | E61: 興居島 | F61: 中学校 | G61: =D61&" "&E61&" "&F61 -> 松山市立 興居島 中学校 | H61: 興居島 | J61: ７９１－８０９３ | K61: 松山市泊町甲４２５－３ | L61: ０８９－９６１－２０１０ | M61: ０８９－９６１－３５９６ | O61: 59 | P61: 中12 | Q61: 松山市 | R61: 立 | S61: 興居島 | T61: 中学校 | U61: 興居島 | V61: ７９１ | W61: ８０９３ | X61: 松山市泊町甲４２５－３ | Z61: 089－961－2010 | AA61: 089－961－3596 | AC61: 791-8093 | AD61: 791 | AE61: - | AF61: 8093
A62: 60 | C62: T10231876 | D62: 松山市立 | E62: 余土 | F62: 中学校 | G62: =D62&" "&E62&" "&F62 -> 松山市立 余土 中学校 | H62: 余土 | J62: ７９０－００４３ | K62: 松山市保免西４丁目５番２３号 | L62: ０８９－９７２－００１０ | M62: ０８９－９７１－９９２４ | O62: 60 | P62: 中13 | Q62: 松山市 | R62: 立 | S62: 余土 | T62: 中学校 | U62: 余土 | V62: ７９０ | W62: ００４３ | X62: 松山市保免西４丁目５番２３号 | Z62: 089－972－0010 | AA62: 089－971－9924 | AC62: 790-0044 | AD62: 790 | AE62: - | AF62: 0044 | AH62: 431442091 | AI62: 432374284
A63: 61 | B63: T10218808 | C63: T10218778 | D63: 松山市立 | E63: 湯山 | F63: 中学校 | G63: =D63&" "&E63&" "&F63 -> 松山市立 湯山 中学校 | H63: 湯山 | J63: ７９１－０１０１ | K63: 松山市溝辺町甲５０８－１ | L63: ０８９－９７７－０４０２ | M63: ０８９－９７７－９９８９ | O63: 61 | P63: 中14 | Q63: 松山市 | R63: 立 | S63: 湯山 | T63: 中学校 | U63: 湯山 | V63: ７９１ | W63: ０１０１ | X63: 松山市溝辺町甲５０８－１ | Z63: 089－977－0402 | AA63: 089－977－9989 | AC63: 791-0101 | AD63: 791 | AE63: - | AF63: 0101 | AH63: 432242507 | AI63: 432242224
A64: 62 | D64: 松山市立 | E64: 日浦 | F64: 中学校 | G64: =D64&" "&E64&" "&F64 -> 松山市立 日浦 中学校 | H64: 日浦 | J64: ７９１－０１３２ | K64: 松山市河中町１８８－１ | L64: ０８９－９７７－５８２２ | M64: ０８９－９７７－９９９０ | O64: 62 | P64: 中15 | Q64: 松山市 | R64: 立 | S64: 日浦 | T64: 中学校 | U64: 日浦 | V64: ７９１ | W64: ０１３２ | X64: 松山市河中町１８８－１ | Z64: 089－977－5822 | AA64: 089－977－9990 | AC64: 791-0132 | AD64: 791 | AE64: - | AF64: 0132
A65: 63 | D65: 松山市立 | E65: 旭 | F65: 中学校 | G65: =D65&" "&E65&" "&F65 -> 松山市立 旭 中学校 | H65: 旭 | J65: ７９１－０１１２ | K65: 松山市下伊台町１１０５番地１ | L65: ０８９－９７７－４３６２ | M65: ０８９－９７７－９９９１ | O65: 63 | P65: 中16 | Q65: 松山市 | R65: 立 | S65: 旭 | T65: 中学校 | U65: 旭 | V65: ７９１ | W65: ０１１２ | X65: 松山市下伊台町１１０５番地１ | Z65: 089－977－4362 | AA65: 089－977－9991 | AC65: 791-0112 | AD65: 791 | AE65: - | AF65: 0112
A66: 64 | B66: T10230008 | C66: T10229668 | D66: 松山市立 | E66: 久米 | F66: 中学校 | G66: =D66&" "&E66&" "&F66 -> 松山市立 久米 中学校 | H66: 久米 | J66: ７９１－１１０２ | K66: 松山市来住町６８９ | L66: ０８９－９７５－０５０１ | M66: ０８９－９７０－３９１０ | O66: 64 | P66: 中17 | Q66: 松山市 | R66: 立 | S66: 久米 | T66: 中学校 | U66: 久米 | V66: ７９１ | W66: １１０２ | X66: 松山市来住町６８９ | Z66: 089－975－0501 | AA66: 089－970－3910 | AC66: 791-1102 | AD66: 791 | AE66: - | AF66: 1102 | AH66: 432355546 | AI66: 432352118
A67: 65 | B67: T10001776 | C67: T10188941 | D67: 松山市立 | E67: 小野 | F67: 中学校 | G67: =D67&" "&E67&" "&F67 -> 松山市立 小野 中学校 | H67: 小野 | J67: ７９１－０２４３ | K67: 松山市平井町甲３６９０番地 | L67: ０８９－９７５－０９８８ | M67: ０８９－９７０－３９１２ | O67: 65 | P67: 中18 | Q67: 松山市 | R67: 立 | S67: 小野 | T67: 中学校 | U67: 小野 | V67: ７９１ | W67: ０２４３ | X67: 松山市平井町甲３６９０番地 | Z67: 089－975－0988 | AA67: 089－970－3912 | AC67: 791-0243 | AD67: 791 | AE67: - | AF67: 0243 | AH67: 430018611 | AI67: 431933554
A68: 66 | C68: T10099186 | D68: 松山市立 | E68: 久谷 | F68: 中学校 | G68: =D68&" "&E68&" "&F68 -> 松山市立 久谷 中学校 | H68: 久谷 | J68: ７９１－１１３３ | K68: 松山市浄瑠璃町９４０ | L68: ０８９－９６３－１０２５ | M68: ０８９－９６３－４４８３ | O68: 66 | P68: 中19 | Q68: 松山市 | R68: 立 | S68: 久谷 | T68: 中学校 | U68: 久谷 | V68: ７９１ | W68: １１３３ | X68: 松山市浄瑠璃町９４０ | Z68: 089－963－1025 | AA68: 089－963－4483 | AC68: 791-1133 | AD68: 791 | AE68: - | AF68: 1133 | AI68: 431008481
A69: 67 | C69: T10216255 | D69: 松山市立 | E69: 南 | F69: 中学校 | G69: =D69&" "&E69&" "&F69 -> 松山市立 南 中学校 | H69: 松山南 | J69: ７９０－０９３２ | K69: 松山市東石井７丁目２－５２ | L69: ０８９－９５６－１３７３ | M69: ０８９－９５８－９９５８ | O69: 67 | P69: 中20 | Q69: 松山市 | R69: 立 | S69: 南 | T69: 中学校 | U69: 松山南 | V69: ７９０ | W69: ０９３２ | X69: 松山市東石井７丁目２－５２ | Z69: 089－956－1373 | AA69: 089－958－9958 | AC69: 790-0932 | AD69: 790 | AE69: - | AF69: 0932 | AI69: 432216279
A70: 68 | B70: T10217269 | C70: T10186732 | D70: 松山市立 | E70: 西 | F70: 中学校 | G70: =D70&" "&E70&" "&F70 -> 松山市立 西 中学校 | H70: 松山西 | J70: ７９１－８０３６ | K70: 松山市高岡町４０９ | L70: ０８９－９７１－６２２６ | M70: ０８９－９７１－９９３４ | O70: 68 | P70: 中21 | Q70: 松山市 | R70: 立 | S70: 西 | T70: 中学校 | U70: 松山西 | V70: ７９１ | W70: ８０３６ | X70: 松山市高岡町４０９ | Z70: 089－971－6226 | AA70: 089－971－9934 | AC70: 791-8036 | AD70: 791 | AE70: - | AF70: 8036 | AH70: 432226548 | AI70: 431911300
A71: 69 | C71: T10185032 | D71: 松山市立 | E71: 南第二 | F71: 中学校 | G71: =D71&" "&E71&" "&F71 -> 松山市立 南第二 中学校 | H71: 南第二 | J71: ７９１－１１１３ | K71: 松山市森松町９４３ | L71: ０８９－９５７－５６３３ | M71: ０８９－９５８－９９５９ | O71: 69 | P71: 中22 | Q71: 松山市 | R71: 立 | S71: 南第二 | T71: 中学校 | U71: 南第二 | V71: ７９１ | W71: １１１３ | X71: 松山市森松町９４３ | Z71: 089－957－5633 | AA71: 089－958－9959 | AC71: 791-1113 | AD71: 791 | AE71: - | AF71: 1113 | AI71: 431894119
A72: 70 | C72: T10210192 | D72: 松山市立 | E72: 桑原 | F72: 中学校 | G72: =D72&" "&E72&" "&F72 -> 松山市立 桑原 中学校 | H72: 桑原 | J72: ７９０－０９１２ | K72: 松山市畑寺町丙２３８番地２８ | L72: ０８９－９４３－５１５２ | M72: ０８９－９３３－９９５８ | O72: 70 | P72: 中23 | Q72: 松山市 | R72: 立 | S72: 桑原 | T72: 中学校 | U72: 桑原 | V72: ７９０ | W72: ０９１２ | X72: 松山市畑寺町丙２３８番地２８ | Z72: 089－943－5152 | AA72: 089－933－9958 | AC72: 790-0912 | AD72: 790 | AE72: - | AF72: 0912 | AI72: 432154285
A73: 71 | C73: T10184813 | D73: 松山市立 | E73: 椿 | F73: 中学校 | G73: =D73&" "&E73&" "&F73 -> 松山市立 椿 中学校 | H73: 椿 | J73: ７９０－０９４７ | K73: 松山市市坪南１丁目１番地２０号 | L73: ０８９－９５７－８６５０ | M73: ０８９－９５８－９９６０ | O73: 71 | P73: 中24 | Q73: 松山市 | R73: 立 | S73: 椿 | T73: 中学校 | U73: 椿 | V73: ７９０ | W73: ０９４７ | X73: 松山市市坪南１丁目１番地２０号 | Z73: 089－957－8650 | AA73: 089－958－9960 | AC73: 790-0947 | AD73: 790 | AE73: - | AF73: 0947 | AI73: 431891896
A74: 72 | B74: T10159231 | C74: T10162965 | D74: 松山市立 | E74: 城西 | F74: 中学校 | G74: =D74&" "&E74&" "&F74 -> 松山市立 城西 中学校 | H74: 城西 | J74: ７９０－００５３ | K74: 松山市竹原３丁目１９番地３５号 | L74: ０８９－９３２－５００８ | M74: ０８９－９３３－９９６２ | O74: 72 | P74: 中25 | Q74: 松山市 | R74: 立 | S74: 城西 | T74: 中学校 | U74: 城西 | V74: ７９０ | W74: ００５３ | X74: 松山市竹原３丁目１９番地３５号 | Z74: 089－932－5008 | AA74: 089－933－9962 | AC74: 790-0053 | AD74: 790 | AE74: - | AF74: 0053 | AH74: 431628115 | AI74: 431666592
A75: 73 | C75: T10065167 | D75: 松山市立 | E75: 北 | F75: 中学校 | G75: =D75&" "&E75&" "&F75 -> 松山市立 北 中学校 | H75: 松山北 | J75: ７９９－２６６２ | K75: 松山市太山寺町４９１－１ | L75: ０８９－９７８－３３２１ | M75: ０８９－９７８－５５９６ | O75: 73 | P75: 中26 | Q75: 松山市 | R75: 立 | S75: 北 | T75: 中学校 | U75: 松山北 | V75: ７９９ | W75: ２６６２ | X75: 松山市太山寺町４９１－１ | Z75: 089－978－3321 | AA75: 089－978－5596 | AC75: 799-2662 | AD75: 799 | AE75: - | AF75: 2662 | AH75: 433180824 | AI75: 430662803
A76: 74 | C76: T10257760 | D76: 松山市立 | E76: 北条北 | F76: 中学校 | G76: =D76&" "&E76&" "&F76 -> 松山市立 北条北 中学校 | H76: 北条北 | J76: ７９９－２４３０ | K76: 松山市北条辻３６５ | L76: ０８９－９９３－００３８ | M76: ０８９－９９３－０３３６ | O76: 74 | P76: 中27 | Q76: 松山市 | R76: 立 | S76: 北条北 | T76: 中学校 | U76: 北条北 | V76: ７９９ | W76: ２４３０ | X76: 松山市北条辻３６５ | Z76: 089－993－0038 | AA76: 089－993－0336 | AC76: 799-2430 | AD76: 799 | AE76: - | AF76: 2430 | AH76: 432649347 | AI76: 432633190
A77: 75 | B77: T10173060 | C77: T10212929 | D77: 松山市立 | E77: 北条南 | F77: 中学校 | G77: =D77&" "&E77&" "&F77 -> 松山市立 北条南 中学校 | H77: 北条南 | J77: ７９９－２４３６ | K77: 松山市河野別府１２ | L77: ０８９－９９４－０２３０ | M77: ０８９－９９４－０２５２ | O77: 75 | P77: 中28 | Q77: 松山市 | R77: 立 | S77: 北条南 | T77: 中学校 | U77: 北条南 | V77: ７９９ | W77: ２４３６ | X77: 松山市河野別府１２ | Z77: 089－994－0230 | AA77: 089－994－0252 | AC77: 799-2436 | AD77: 799 | AE77: - | AF77: 2436 | AH77: 431771386 | AI77: 432182132
A78: 76 | D78: 松山市立 | E78: 中島 | F78: 中学校 | G78: =D78&" "&E78&" "&F78 -> 松山市立 中島 中学校 | H78: 中島 | J78: ７９１－４５０３ | K78: 松山市長師８１７番地 | L78: ０８９－９９７－０２０４ | M78: ０８９－９９７－１８６２ | O78: 76 | P78: 中29 | Q78: 松山市 | R78: 立 | S78: 中島 | T78: 中学校 | U78: 中島 | V78: ７９１ | W78: ４５０３ | X78: 松山市長師８１７番地 | Z78: 089－997－0204 | AA78: 089－997－1862 | AC78: 791-4503 | AD78: 791 | AE78: - | AF78: 4503
A79: 77 | B79: T10109632 | C79: T10141199 | D79: 愛媛大学教育学部 | E79: 附属 | F79: 中学校 | G79: =D79&" "&E79&" "&F79 -> 愛媛大学教育学部 附属 中学校 | H79: 愛大附属 | J79: ７９０－０８５５ | K79: 松山市持田町１丁目５番２２号 | L79: ０８９－９１３－７８４１ | M79: ０８９－９１３－７８４２ | O79: 77 | Q79: 愛媛大学教育学部 | S79: 附属 | T79: 中学校 | U79: 愛大附属 | V79: ７９０ | W79: ０８５５ | X79: 松山市持田町１丁目５番２２号 | Z79: 089－913－7841 | AA79: 089－913－7842 | AC79: 790-0855 | AD79: 790 | AE79: - | AF79: 0855 | AH79: 431114224 | AI79: 431438576
A80: 78 | C80: T10168417 | D80: 愛媛県立 | E80: 松山西 | F80: 中等教育学校 | G80: =D80&" "&E80&" "&F80 -> 愛媛県立 松山西 中等教育学校 | H80: 県立西 | J80: ７９１－８０１６ | K80: 松山市久万ノ台甲１４８５－４ | L80: ０８９－９２２－８９３１ | M80: ０８９－９２３－３７０３ | O80: 78 | Q80: 愛媛県 | R80: 立 | S80: 松山西 | T80: 中等教育学校 | U80: 県立西 | V80: ７９１ | W80: ８０１６ | X80: 松山市久万ノ台甲１４８５－４ | Z80: 089－922－8931 | AA80: 089－923－3703 | AC80: 791-8016 | AD80: 791 | AE80: - | AF80: 8016 | AI80: 431722474
A81: 79 | E81: 愛光 | F81: 中学校 | G81: =D81&" "&E81&" "&F81 -> 愛光 中学校 | H81: 愛光 | J81: ７９１－８５０１ | K81: 松山市衣山５丁目１６１０番地１ | L81: ０８９－９２２－８９８０ | M81: ０８９－９２６－４０３３ | O81: 79 | S81: 愛光 | T81: 中学校 | U81: 愛光 | V81: ７９１ | W81: ８５０１ | X81: 松山市衣山５丁目１６１０番地１ | Z81: 089－922－8980 | AA81: 089－926－4033 | AC81: 791-8501 | AD81: 791 | AE81: - | AF81: 8501 | AH81: 435500106 | AI81: 432995831
A82: 80 | E82: 済美平成 | F82: 中学校 | G82: =D82&" "&E82&" "&F82 -> 済美平成 中学校 | H82: 済美平成 | J82: ７９１－００５４ | K82: 松山市空港通５丁目６番３号 | L82: ０８９－９６５－１５５１ | M82: ０８９－９７２－５３３５ | O82: 80 | S82: 済美平成 | T82: 中学校 | U82: 済美平成 | V82: ７９１ | W82: ００５４ | X82: 松山市空港通５丁目６番３号 | Z82: 089－965－1551 | AA82: 089－972－5335 | AC82: 791-0054 | AD82: 791 | AE82: - | AF82: 0054
A83: 81 | C83: T10374573 | E83: 松山東雲 | F83: 中学校 | G83: =D83&" "&E83&" "&F83 -> 松山東雲 中学校 | H83: 松山東雲 | J83: ７９０－８５４１ | K83: 松山市大街道３丁目２番地２４ | L83: ０８９－９４１－４１３６ | M83: ０８９－９３１－４９７３ | O83: 81 | S83: 松山東雲 | T83: 中学校 | U83: 松山東雲 | V83: ７９０ | W83: ８５４１ | X83: 松山市大街道３丁目２番地２４ | Z83: 089－941－4136 | AA83: 089－931－4973 | AC83: 790-8541 | AD83: 790 | AE83: - | AF83: 8541 | AI83: 433846646
A84: 82 | E84: 新田青雲 | F84: 中学校 | G84: =D84&" "&E84&" "&F84 -> 新田青雲 中学校 | H84: 新田青雲 | J84: ７９１－８５５１ | K84: 松山市山西町６００番地１ | L84: ０８９－９５１－６６５５ | M84: ０８９－９５１－５２００ | O84: 82 | S84: 新田青雲 | T84: 中学校 | U84: 新田青雲 | V84: ７９１ | W84: ８５５１ | X84: 松山市山西町６００番地１ | Z84: 089－951－6655 | AA84: 089－951－5200 | AC84: 791-8551 | AD84: 791 | AE84: - | AF84: 8551 | AH84: 434675525 | AI84: 435662606
A85: 83 | B85: T10181867 | C85: T10189528 | D85: 東温市立 | E85: 重信 | F85: 中学校 | G85: =D85&" "&E85&" "&F85 -> 東温市立 重信 中学校 | H85: 重信 | J85: ７９１－０２０４ | K85: 東温市志津川９９１ | L85: ０８９－９６４－２００７ | M85: ０８９－９６４－１５１５ | O85: 83 | Q85: 東温市 | R85: 立 | S85: 重信 | T85: 中学校 | U85: 重信 | V85: ７９１ | W85: ０２０４ | X85: 東温市志津川９９１ | Z85: 089－964－2007 | AA85: 089－964－1515 | AC85: 791-0204 | AD85: 791 | AE85: - | AF85: 0204 | AH85: 431860775 | AI85: 431939306
A86: 84 | B86: T10233351 | C86: T10222089 | D86: 東温市立 | E86: 川内 | F86: 中学校 | G86: =D86&" "&E86&" "&F86 -> 東温市立 川内 中学校 | H86: 川内 | J86: ７９１－０３０１ | K86: 東温市南方４６７－１ | L86: ０８９－９６６－２０３１ | M86: ０８９－９６０－６０４４ | O86: 84 | Q86: 東温市 | R86: 立 | S86: 川内 | T86: 中学校 | U86: 川内 | V86: ７９１ | W86: ０３０１ | X86: 東温市南方４６７－１ | Z86: 089－966－2031 | AA86: 089－960－6044 | AC86: 791-0301 | AD86: 791 | AE86: - | AF86: 0301 | AH86: 432389075 | AI86: 432275778
A87: 85 | B87: T10183816 | C87: T10186510 | D87: 伊予市立 | E87: 港南 | F87: 中学校 | G87: =D87&" "&E87&" "&F87 -> 伊予市立 港南 中学校 | H87: 港南 | J87: ７９９－３１１３ | K87: 伊予市米湊５００－１ | L87: ０８９－９８２－００６３ | M87: ０８９－９８３－１６７６ | O87: 85 | Q87: 伊予市 | R87: 立 | S87: 港南 | T87: 中学校 | U87: 港南 | V87: ７９９ | W87: ３１１３ | X87: 伊予市米湊５００－１ | Z87: 089－982－0063 | AA87: 089－983－1676 | AC87: 799-3113 | AD87: 799 | AE87: - | AF87: 3113 | AH87: 431881272 | AI87: 431909157
A88: 86 | C88: T10149393 | D88: 伊予市立 | E88: 伊予 | F88: 中学校 | G88: =D88&" "&E88&" "&F88 -> 伊予市立 伊予 中学校 | H88: 伊予 | J88: ７９９－３１０３ | K88: 伊予市上野２３２６番地 | L88: ０８９－９８２－０６１６ | M88: ０８９－９８３－１７２４ | O88: 86 | Q88: 伊予市 | R88: 立 | S88: 伊予 | T88: 中学校 | U88: 伊予 | V88: ７９９ | W88: ３１０３ | X88: 伊予市上野２３２６番地 | Z88: 089－982－0616 | AA88: 089－983－1724 | AC88: 799-3103 | AD88: 799 | AE88: - | AF88: 3103 | AI88: 431526255
A89: 87 | C89: T10154151 | D89: 伊予市立 | E89: 中山 | F89: 中学校 | G89: =D89&" "&E89&" "&F89 -> 伊予市立 中山 中学校 | H89: 中山 | J89: ７９１－３２０４ | K89: 伊予市中山町出渕２番耕地１６５番地 | L89: ０８９－９６７－０００９ | M89: ０８９－９６７－５０８５ | O89: 87 | Q89: 伊予市 | R89: 立 | S89: 中山 | T89: 中学校 | U89: 中山 | V89: ７９１ | W89: ３２０４ | X89: 伊予市中山町出渕２番耕地１６５番地 | Z89: 089－967－0009 | AA89: 089－967－5085 | AC89: 791-3204 | AD89: 791 | AE89: - | AF89: 3204 | AI89: 431576067
A90: 88 | D90: 伊予市立 | E90: 双海 | F90: 中学校 | G90: =D90&" "&E90&" "&F90 -> 伊予市立 双海 中学校 | H90: 双海 | J90: ７９９－３２０５ | K90: 伊予市双海町上灘甲５２８６－１ | L90: ０８９－９８６－００２３ | M90: ０８９－９８６－００４０ | O90: 88 | Q90: 伊予市 | R90: 立 | S90: 双海 | T90: 中学校 | U90: 双海 | V90: ７９９ | W90: ３２０５ | X90: 伊予市双海町上灘甲５２８６－１ | Z90: 089－986－0023 | AA90: 089－986－0040 | AC90: 799-3205 | AD90: 799 | AE90: - | AF90: 3205 | AH90: 430970762 | AI90: 431321187
A91: 89 | B91: T10113462 | C91: T10113509 | D91: 松前町立 | E91: 北伊予 | F91: 中学校 | G91: =D91&" "&E91&" "&F91 -> 松前町立 北伊予 中学校 | H91: 北伊予 | J91: ７９１－３１６１ | K91: 伊予郡松前町大字神崎４１５－１ | L91: ０８９－９８４－２２５４ | M91: ０８９－９８４－７４５３ | O91: 89 | Q91: 松前町 | R91: 立 | S91: 北伊予 | T91: 中学校 | U91: 北伊予 | V91: ７９１ | W91: ３１６１ | X91: 伊予郡松前町大字神崎４１５－１ | Z91: 089－984－2254 | AA91: 089－984－7453 | AC91: 791-3161 | AD91: 791 | AE91: - | AF91: 3161 | AH91: 431153685 | AI91: 431154028
A92: 90 | C92: T10152492 | D92: 松前町立 | E92: 岡田 | F92: 中学校 | G92: =D92&" "&E92&" "&F92 -> 松前町立 岡田 中学校 | H92: 岡田 | J92: ７９１－３１３３ | K92: 伊予郡松前町大字昌農内４４３－１ | L92: ０８９－９８４－１３５７ | M92: ０８９－９６０－３０２４ | O92: 90 | Q92: 松前町 | R92: 立 | S92: 岡田 | T92: 中学校 | U92: 岡田 | V92: ７９１ | W92: ３１３３ | X92: 伊予郡松前町大字昌農内４４３－１ | Z92: 089－984－1357 | AA92: 089－960－3024 | AC92: 791-3133 | AD92: 791 | AE92: - | AF92: 3133 | AI92: 431559127
A93: 91 | C93: T10540343 | D93: 松前町立 | E93: 松前 | F93: 中学校 | G93: =D93&" "&E93&" "&F93 -> 松前町立 松前 中学校 | H93: 松前 | J93: ７９１－３１１０ | K93: 伊予郡松前町大字浜９６３ | L93: ０８９－９８４－１１４９ | M93: ０８９－９８４－８２９５ | O93: 91 | Q93: 松前町 | R93: 立 | S93: 松前 | T93: 中学校 | U93: 松前 | V93: ７９１ | W93: ３１１０ | X93: 伊予郡松前町大字浜９６３ | Z93: 089－984－1149 | AA93: 089－984－8295 | AC93: 791-3110 | AD93: 791 | AE93: - | AF93: 3110 | AI93: 435726803
A94: 92 | B94: T10654279 | C94: T10149058 | D94: 砥部町立 | E94: 砥部 | F94: 中学校 | G94: =D94&" "&E94&" "&F94 -> 砥部町立 砥部 中学校 | H94: 砥部 | J94: ７９１－２１２２ | K94: 伊予郡砥部町千足６８ | L94: ０８９－９６２－２００８ | M94: ０８９－９６２－２７０５ | O94: 92 | Q94: 砥部町 | R94: 立 | S94: 砥部 | T94: 中学校 | U94: 砥部 | V94: ７９１ | W94: ２１２２ | X94: 伊予郡砥部町千足６８ | Z94: 089－962－2008 | AA94: 089－962－2705 | AC94: 791-2122 | AD94: 791 | AE94: - | AF94: 2122 | AH94: 433648372 | AI94: 431522847
A95: 93 | D95: 久万高原町立 | E95: 久万 | F95: 中学校 | G95: =D95&" "&E95&" "&F95 -> 久万高原町立 久万 中学校 | H95: 久万 | J95: ７９１－１２０１ | K95: 上浮穴郡久万高原町久万６００ | L95: ０８９２－２１－００１３ | M95: ０８９２－２１－０３１６ | O95: 93 | Q95: 久万高原町 | R95: 立 | S95: 久万 | T95: 中学校 | U95: 久万 | V95: ７９１ | W95: １２０１ | X95: 上浮穴郡久万高原町久万６００ | Z95: 0892－21－0013 | AA95: 0892－21－0316 | AC95: 791-1201 | AD95: 791 | AE95: - | AF95: 1201 | AI95: 431653593
A96: 94 | D96: 久万高原町立 | E96: 美川 | F96: 中学校 | G96: =D96&" "&E96&" "&F96 -> 久万高原町立 美川 中学校 | H96: 美川 | J96: ７９１－１５０１ | K96: 上浮穴郡久万高原町上黒岩２８９０ | L96: ０８９２－５６－０１３４ | M96: ０８９２－５６－０５８８ | O96: 94 | Q96: 久万高原町 | R96: 立 | S96: 美川 | T96: 中学校 | U96: 美川 | V96: ７９１ | W96: １５０１ | X96: 上浮穴郡久万高原町上黒岩２８９０ | Z96: 0892－56－0134 | AA96: 0892－56－0588 | AC96: 791-1501 | AD96: 791 | AE96: - | AF96: 1501
A97: 95 | C97: T10259511 | D97: 大洲市立 | E97: 大洲南 | F97: 中学校 | G97: =D97&" "&E97&" "&F97 -> 大洲市立 大洲南 中学校 | H97: 大洲南 | J97: ７９５－００１２ | K97: 大洲市大洲１００５ | L97: ０８９３－２４－２２１１ | M97: ０８９３－２４－６２７３ | O97: 96 | Q97: 大洲市 | R97: 立 | S97: 大洲南 | T97: 中学校 | U97: 大洲南 | V97: ７９５ | W97: ００１２ | X97: 大洲市大洲１００５ | Z97: 0893－24－2211 | AA97: 0893－24－6273 | AC97: 795-0012 | AD97: 795 | AE97: - | AF97: 0012 | AI97: 432650602
A98: 96 | C98: T10187272 | D98: 大洲市立 | E98: 大洲北 | F98: 中学校 | G98: =D98&" "&E98&" "&F98 -> 大洲市立 大洲北 中学校 | H98: 大洲北 | J98: ７９５－００６４ | K98: 大洲市東大洲６９－１ | L98: ０８９３－２４－２２２７ | M98: ０８９３－２４－５１０５ | O98: 97 | Q98: 大洲市 | R98: 立 | S98: 大洲北 | T98: 中学校 | U98: 大洲北 | V98: ７９５ | W98: ００６４ | X98: 大洲市東大洲６９－１ | Z98: 0893－24－2227 | AA98: 0893－24－5105 | AC98: 795-0064 | AD98: 795 | AE98: - | AF98: 0064 | AI98: 431916864
A99: 97 | C99: T10319819 | D99: 大洲市立 | E99: 平野 | F99: 中学校 | G99: =D99&" "&E99&" "&F99 -> 大洲市立 平野 中学校 | H99: 平野 | J99: ７９５－００２１ | K99: 大洲市平野町野田５０ | L99: ０８９３－２４－３３０９ | M99: ０８９３－２４－５３０９ | O99: 98 | Q99: 大洲市 | R99: 立 | S99: 平野 | T99: 中学校 | U99: 平野 | V99: ７９５ | W99: ００２１ | X99: 大洲市平野町野田５０ | Z99: 0893－24－3309 | AA99: 0893－24－5309 | AC99: 795-0021 | AD99: 795 | AE99: - | AF99: 0021 | AI99: 433295845
A100: 98 | C100: T10391570 | D100: 大洲市立 | E100: 肱東 | F100: 中学校 | G100: =D100&" "&E100&" "&F100 -> 大洲市立 肱東 中学校 | H100: 肱東 | J100: ７９５－００８１ | K100: 大洲市菅田町菅田甲１７９０ | L100: ０８９３－２５－２９１０ | M100: ０８９３－５９－４０７９ | O100: 99 | Q100: 大洲市 | R100: 立 | S100: 肱東 | T100: 中学校 | U100: 肱東 | V100: ７９５ | W100: ００８１ | X100: 大洲市菅田町菅田甲１７９０ | Z100: 0893－25－2910 | AA100: 0893－59－4079 | AC100: 795-0081 | AD100: 795 | AE100: - | AF100: 0081 | AI100: 434155272
...
