Workbook
Name チーム情報: チーム情報!$A$3:$M$207

Sheet 記入要領
U3: ２０２６年度 愛媛県中学生バレーボール新人大会 参加申込書
R4: 10 | U4: チーム名 | X4: =IFERROR(VLOOKUP($R$4,チーム情報,7,0)&"","") -> 新居浜市立 南 中学校 | AO4: 男子 | AQ4: チームの日本協会登録ＩＤ
AQ5: =IFERROR(VLOOKUP($R$4,チーム情報,2,0)&"","") -> T10260692
U6: 所在地 | X6: 〒 | Y6: =IFERROR(VLOOKUP($R$4,チーム情報,10,0)&"","") -> ７９２－０８１１ | AE6: =IFERROR(VLOOKUP($R$4,チーム情報,11,0)&"","") -> 新居浜市庄内町２丁目４番４７号
U7: 電話 | X7: =IFERROR(VLOOKUP($R$4,チーム情報,12,0)&"","") -> ０８９７－３７－０３１０ | AI7: 全チーム 日本協会登録ＩＤ （監督かコーチに必要） | AP7: クラブチームのみ Ｊスポ資格番号 （監督かコーチに必要）
U8: 監 督 | X8: =IF(C14="","",C14) -> 愛媛 太郎 | AF8: （大人） | AI8: =IF(D14="","",D14) -> JVA012345676 | AP8: =IF(E14="","",E14) -> 000456543
U9: コーチ | X9: =IF(C15="","",C15) -> 松山 次郎 | AF9: （大人） | AI9: =IF(D15="","",D15) -> JVA012345677 | AP9: =IF(E15="","",E15) -> 000765389
J10: マネージャーＩＤ | L10: マネージャー氏名 | U10: 緊急連絡先 監督の携帯電話など | AA10: =IF(C16="","",C16) -> 090-1234-5678 | AI10: 書類が送れる メールアドレス | AO10: =IF(C17="","",C17) -> s_hino@ehimeva.com
J11: JVA012345690 | L11: 松山 太郎 | U11: マネー ジャー | X11: =IF(L11="","",L11) -> 松山 太郎 | AF11: （生徒） | AI11: マネージャーの 日本協会登録ＩＤ | AO11: =IF(J11="","",J11) -> JVA012345690
G12: No | H12: 推薦 | J12: 日本協会登録ID | K12: 背番号 | L12: 選手氏名 | M12: 学年 | N12: 身長 | O12: 指高 | P12: 最高 到達点 | Q12: 備考 | U12: 推薦 | V12: 番号 | W12: 日本協会 登録ＩＤ | AA12: 背番号 | AC12: 選手氏名 | AH12: 学 年 | AK12: 身 長 | AN12: 指 高 | AQ12: 最高到達点 | AT12: 備考 (学校名)
G13: =IF($R$4="","",$R$4) -> 10 | H13: 1 | I13: 1 | J13: JVA012345678 | K13: ① | L13: 松山 一郎 | M13: 3 | N13: 181 | O13: 231 | P13: 300 | Q13: 松山 | U13: =IF(H13=1,"○","") -> ○ | V13: 1 | W13: =IF(J13="","",J13) -> JVA012345678 | AA13: =IF(K13="","",K13) -> ① | AC13: =IF(L13="","",L13) -> 松山 一郎 | AH13: =IF(M13="","",M13) -> 3 | AJ13: 年 | AK13: =IF(N13="","",N13) -> 181 | AM13: cm | AN13: =IF(O13="","",O13) -> 231 | AP13: cm | AQ13: =IF(P13="","",P13) -> 300 | AS13: cm | AT13: =IF(Q13="","",Q13) -> 松山
B14: 監督氏名 | C14: 愛媛 太郎 | D14: JVA012345676 | E14: 000456543 | G14: =IF($R$4="","",$R$4) -> 10 | H14: 1 | I14: 2 | J14: JVA012345679 | K14: 2 | L14: 松山 二郎 | M14: 3 | N14: 180 | O14: 230 | P14: 299 | Q14: 松山 | U14: =IF(H14=1,"○","") -> ○ | V14: 2 | W14: =IF(J14="","",J14) -> JVA012345679 | AA14: =IF(K14="","",K14) -> 2 | AC14: =IF(L14="","",L14) -> 松山 二郎 | AH14: =IF(M14="","",M14) -> 3 | AJ14: 年 | AK14: =IF(N14="","",N14) -> 180 | AM14: cm | AN14: =IF(O14="","",O14) -> 230 | AP14: cm | AQ14: =IF(P14="","",P14) -> 299 | AS14: cm | AT14: =IF(Q14="","",Q14) -> 松山
B15: コーチ氏名 | C15: 松山 次郎 | D15: JVA012345677 | E15: 000765389 | G15: =IF($R$4="","",$R$4) -> 10 | H15: 1 | I15: 3 | J15: JVA012345680 | K15: 3 | L15: 松山 三郎 | M15: 3 | N15: 179 | O15: 229 | P15: 298 | Q15: 北条 | U15: =IF(H15=1,"○","") -> ○ | V15: 3 | W15: =IF(J15="","",J15) -> JVA012345680 | AA15: =IF(K15="","",K15) -> 3 | AC15: =IF(L15="","",L15) -> 松山 三郎 | AH15: =IF(M15="","",M15) -> 3 | AJ15: 年 | AK15: =IF(N15="","",N15) -> 179 | AM15: cm | AN15: =IF(O15="","",O15) -> 229 | AP15: cm | AQ15: =IF(P15="","",P15) -> 298 | AS15: cm | AT15: =IF(Q15="","",Q15) -> 北条
B16: 緊急連絡先 | C16: 090-1234-5678 | G16: =IF($R$4="","",$R$4) -> 10 | I16: 4 | J16: JVA012345681 | K16: 4 | L16: 松山 四郎 | M16: 3 | N16: 178 | O16: 228 | P16: 297 | Q16: 北条 | U16: =IF(H16=1,"○","") | V16: 4 | W16: =IF(J16="","",J16) -> JVA012345681 | AA16: =IF(K16="","",K16) -> 4 | AC16: =IF(L16="","",L16) -> 松山 四郎 | AH16: =IF(M16="","",M16) -> 3 | AJ16: 年 | AK16: =IF(N16="","",N16) -> 178 | AM16: cm | AN16: =IF(O16="","",O16) -> 228 | AP16: cm | AQ16: =IF(P16="","",P16) -> 297 | AS16: cm | AT16: =IF(Q16="","",Q16) -> 北条
B17: 書類が送れる メールアドレス | C17: s_hino@ehimeva.com | G17: =IF($R$4="","",$R$4) -> 10 | I17: 5 | J17: JVA012345682 | K17: 5 | L17: 松山 五郎 | M17: 3 | N17: 177 | O17: 227 | P17: 296 | Q17: 松山 | U17: =IF(H17=1,"○","") | V17: 5 | W17: =IF(J17="","",J17) -> JVA012345682 | AA17: =IF(K17="","",K17) -> 5 | AC17: =IF(L17="","",L17) -> 松山 五郎 | AH17: =IF(M17="","",M17) -> 3 | AJ17: 年 | AK17: =IF(N17="","",N17) -> 177 | AM17: cm | AN17: =IF(O17="","",O17) -> 227 | AP17: cm | AQ17: =IF(P17="","",P17) -> 296 | AS17: cm | AT17: =IF(Q17="","",Q17) -> 松山
G18: =IF($R$4="","",$R$4) -> 10 | I18: 6 | J18: JVA012345683 | K18: 6 | L18: 松山 六郎 | M18: 3 | N18: 176 | O18: 226 | P18: 295 | Q18: 松山 | U18: =IF(H18=1,"○","") | V18: 6 | W18: =IF(J18="","",J18) -> JVA012345683 | AA18: =IF(K18="","",K18) -> 6 | AC18: =IF(L18="","",L18) -> 松山 六郎 | AH18: =IF(M18="","",M18) -> 3 | AJ18: 年 | AK18: =IF(N18="","",N18) -> 176 | AM18: cm | AN18: =IF(O18="","",O18) -> 226 | AP18: cm | AQ18: =IF(P18="","",P18) -> 295 | AS18: cm | AT18: =IF(Q18="","",Q18) -> 松山
G19: =IF($R$4="","",$R$4) -> 10 | I19: 7 | J19: JVA012345684 | K19: 7 | L19: 松山 七郎 | M19: 2 | N19: 175 | O19: 225 | P19: 294 | Q19: 松山 | U19: =IF(H19=1,"○","") | V19: 7 | W19: =IF(J19="","",J19) -> JVA012345684 | AA19: =IF(K19="","",K19) -> 7 | AC19: =IF(L19="","",L19) -> 松山 七郎 | AH19: =IF(M19="","",M19) -> 2 | AJ19: 年 | AK19: =IF(N19="","",N19) -> 175 | AM19: cm | AN19: =IF(O19="","",O19) -> 225 | AP19: cm | AQ19: =IF(P19="","",P19) -> 294 | AS19: cm | AT19: =IF(Q19="","",Q19) -> 松山
G20: =IF($R$4="","",$R$4) -> 10 | I20: 8 | J20: JVA012345685 | K20: 8 | L20: 松山 八郎 | M20: 2 | N20: 174 | O20: 224 | P20: 293 | Q20: 松山 | U20: =IF(H20=1,"○","") | V20: 8 | W20: =IF(J20="","",J20) -> JVA012345685 | AA20: =IF(K20="","",K20) -> 8 | AC20: =IF(L20="","",L20) -> 松山 八郎 | AH20: =IF(M20="","",M20) -> 2 | AJ20: 年 | AK20: =IF(N20="","",N20) -> 174 | AM20: cm | AN20: =IF(O20="","",O20) -> 224 | AP20: cm | AQ20: =IF(P20="","",P20) -> 293 | AS20: cm | AT20: =IF(Q20="","",Q20) -> 松山
G21: =IF($R$4="","",$R$4) -> 10 | I21: 9 | J21: JVA012345686 | K21: 9 | L21: 松山 九郎 | M21: 2 | N21: 173 | O21: 223 | P21: 292 | Q21: 北条 | U21: =IF(H21=1,"○","") | V21: 9 | W21: =IF(J21="","",J21) -> JVA012345686 | AA21: =IF(K21="","",K21) -> 9 | AC21: =IF(L21="","",L21) -> 松山 九郎 | AH21: =IF(M21="","",M21) -> 2 | AJ21: 年 | AK21: =IF(N21="","",N21) -> 173 | AM21: cm | AN21: =IF(O21="","",O21) -> 223 | AP21: cm | AQ21: =IF(P21="","",P21) -> 292 | AS21: cm | AT21: =IF(Q21="","",Q21) -> 北条
G22: =IF($R$4="","",$R$4) -> 10 | I22: 10 | J22: JVA012345687 | K22: 10 | L22: 松山 十郎 | M22: 2 | N22: 172 | O22: 222 | P22: 291 | Q22: 北条 | U22: =IF(H22=1,"○","") | V22: 10 | W22: =IF(J22="","",J22) -> JVA012345687 | AA22: =IF(K22="","",K22) -> 10 | AC22: =IF(L22="","",L22) -> 松山 十郎 | AH22: =IF(M22="","",M22) -> 2 | AJ22: 年 | AK22: =IF(N22="","",N22) -> 172 | AM22: cm | AN22: =IF(O22="","",O22) -> 222 | AP22: cm | AQ22: =IF(P22="","",P22) -> 291 | AS22: cm | AT22: =IF(Q22="","",Q22) -> 北条
G23: =IF($R$4="","",$R$4) -> 10 | I23: 11 | J23: JVA012345688 | K23: 11 | L23: 松山 十一郎 | M23: 2 | N23: 171 | O23: 221 | P23: 290 | Q23: 松山 | U23: =IF(H23=1,"○","") | V23: 11 | W23: =IF(J23="","",J23) -> JVA012345688 | AA23: =IF(K23="","",K23) -> 11 | AC23: =IF(L23="","",L23) -> 松山 十一郎 | AH23: =IF(M23="","",M23) -> 2 | AJ23: 年 | AK23: =IF(N23="","",N23) -> 171 | AM23: cm | AN23: =IF(O23="","",O23) -> 221 | AP23: cm | AQ23: =IF(P23="","",P23) -> 290 | AS23: cm | AT23: =IF(Q23="","",Q23) -> 松山
G24: =IF($R$4="","",$R$4) -> 10 | I24: 12 | J24: JVA012345689 | K24: 12 | L24: 松山 十二郎 | M24: 1 | N24: 170 | O24: 220 | P24: 289 | Q24: 松山 | U24: =IF(H24=1,"○","") | V24: 12 | W24: =IF(J24="","",J24) -> JVA012345689 | AA24: =IF(K24="","",K24) -> 12 | AC24: =IF(L24="","",L24) -> 松山 十二郎 | AH24: =IF(M24="","",M24) -> 1 | AJ24: 年 | AK24: =IF(N24="","",N24) -> 170 | AM24: cm | AN24: =IF(O24="","",O24) -> 220 | AP24: cm | AQ24: =IF(P24="","",P24) -> 289 | AS24: cm | AT24: =IF(Q24="","",Q24) -> 松山
U25: ※ 主将の【背番号】に【○】をつけてください。
U26: ※ ＪＯＣカップ愛媛県選抜チーム推薦選手には【推薦】の欄に【○】をつけてください。

Sheet 申込先メールアドレス
B2: s_hino@ehimeva.com

Sheet 男子用申込書(必ず記入要領を確認してください。)
U3: ２０２６年度 愛媛県中学生バレーボール新人大会 参加申込書
U4: チーム名 | X4: =IFERROR(VLOOKUP($R$4,チーム情報,7,0)&"","") | AO4: 男子 | AQ4: チームの日本協会登録ＩＤ
AQ5: =IFERROR(VLOOKUP($R$4,チーム情報,2,0)&"","")
U6: 所在地 | X6: 〒 | Y6: =IFERROR(VLOOKUP($R$4,チーム情報,10,0)&"","") | AE6: =IFERROR(VLOOKUP($R$4,チーム情報,11,0)&"","")
U7: 電話 | X7: =IFERROR(VLOOKUP($R$4,チーム情報,12,0)&"","") | AI7: 全チーム 日本協会登録ＩＤ （監督かコーチに必要） | AP7: クラブチームのみ Ｊスポ資格番号 （監督かコーチに必要）
U8: 監 督 | X8: =IF(C14="","",C14) | AF8: （大人） | AI8: =IF(D14="","",D14) | AP8: =IF(E14="","",E14)
U9: コーチ | X9: =IF(C15="","",C15) | AF9: （大人） | AI9: =IF(D15="","",D15) | AP9: =IF(E15="","",E15)
J10: マネージャーＩＤ | L10: マネージャー氏名 | U10: 緊急連絡先 監督の携帯電話など | AA10: =IF(C16="","",C16) | AI10: 書類が送れる メールアドレス | AO10: =IF(C17="","",C17)
U11: マネー ジャー | X11: =IF(L11="","",L11) | AF11: （生徒） | AI11: マネージャーの 日本協会登録ＩＤ | AO11: =IF(J11="","",J11)
G12: No | H12: 推薦 | J12: 日本協会登録ID | K12: 背番号 | L12: 選手氏名 | M12: 学年 | N12: 身長 | O12: 指高 | P12: 最高 到達点 | Q12: 備考 | U12: 推薦 | V12: 番号 | W12: 日本協会 登録ＩＤ | AA12: 背番号 | AC12: 選手氏名 | AH12: 学 年 | AK12: 身 長 | AN12: 指 高 | AQ12: 最高到達点 | AT12: 備考 (学校名)
G13: =IF($R$4="","",$R$4) | I13: 1 | U13: =IF(H13=1,"○","") | V13: 1 | W13: =IF(J13="","",J13) | AA13: =IF(K13="","",K13) | AC13: =IF(L13="","",L13) | AH13: =IF(M13="","",M13) | AJ13: 年 | AK13: =IF(N13="","",N13) | AM13: cm | AN13: =IF(O13="","",O13) | AP13: cm | AQ13: =IF(P13="","",P13) | AS13: cm | AT13: =IF(Q13="","",Q13)
B14: 監督氏名 | G14: =IF($R$4="","",$R$4) | I14: 2 | U14: =IF(H14=1,"○","") | V14: 2 | W14: =IF(J14="","",J14) | AA14: =IF(K14="","",K14) | AC14: =IF(L14="","",L14) | AH14: =IF(M14="","",M14) | AJ14: 年 | AK14: =IF(N14="","",N14) | AM14: cm | AN14: =IF(O14="","",O14) | AP14: cm | AQ14: =IF(P14="","",P14) | AS14: cm | AT14: =IF(Q14="","",Q14)
B15: コーチ氏名 | G15: =IF($R$4="","",$R$4) | I15: 3 | U15: =IF(H15=1,"○","") | V15: 3 | W15: =IF(J15="","",J15) | AA15: =IF(K15="","",K15) | AC15: =IF(L15="","",L15) | AH15: =IF(M15="","",M15) | AJ15: 年 | AK15: =IF(N15="","",N15) | AM15: cm | AN15: =IF(O15="","",O15) | AP15: cm | AQ15: =IF(P15="","",P15) | AS15: cm | AT15: =IF(Q15="","",Q15)
B16: 緊急連絡先 | G16: =IF($R$4="","",$R$4) | I16: 4 | U16: =IF(H16=1,"○","") | V16: 4 | W16: =IF(J16="","",J16) | AA16: =IF(K16="","",K16) | AC16: =IF(L16="","",L16) | AH16: =IF(M16="","",M16) | AJ16: 年 | AK16: =IF(N16="","",N16) | AM16: cm | AN16: =IF(O16="","",O16) | AP16: cm | AQ16: =IF(P16="","",P16) | AS16: cm | AT16: =IF(Q16="","",Q16)
B17: 書類が送れる メールアドレス | G17: =IF($R$4="","",$R$4) | I17: 5 | U17: =IF(H17=1,"○","") | V17: 5 | W17: =IF(J17="","",J17) | AA17: =IF(K17="","",K17) | AC17: =IF(L17="","",L17) | AH17: =IF(M17="","",M17) | AJ17: 年 | AK17: =IF(N17="","",N17) | AM17: cm | AN17: =IF(O17="","",O17) | AP17: cm | AQ17: =IF(P17="","",P17) | AS17: cm | AT17: =IF(Q17="","",Q17)
G18: =IF($R$4="","",$R$4) | I18: 6 | U18: =IF(H18=1,"○","") | V18: 6 | W18: =IF(J18="","",J18) | AA18: =IF(K18="","",K18) | AC18: =IF(L18="","",L18) | AH18: =IF(M18="","",M18) | AJ18: 年 | AK18: =IF(N18="","",N18) | AM18: cm | AN18: =IF(O18="","",O18) | AP18: cm | AQ18: =IF(P18="","",P18) | AS18: cm | AT18: =IF(Q18="","",Q18)
G19: =IF($R$4="","",$R$4) | I19: 7 | U19: =IF(H19=1,"○","") | V19: 7 | W19: =IF(J19="","",J19) | AA19: =IF(K19="","",K19) | AC19: =IF(L19="","",L19) | AH19: =IF(M19="","",M19) | AJ19: 年 | AK19: =IF(N19="","",N19) | AM19: cm | AN19: =IF(O19="","",O19) | AP19: cm | AQ19: =IF(P19="","",P19) | AS19: cm | AT19: =IF(Q19="","",Q19)
G20: =IF($R$4="","",$R$4) | I20: 8 | U20: =IF(H20=1,"○","") | V20: 8 | W20: =IF(J20="","",J20) | AA20: =IF(K20="","",K20) | AC20: =IF(L20="","",L20) | AH20: =IF(M20="","",M20) | AJ20: 年 | AK20: =IF(N20="","",N20) | AM20: cm | AN20: =IF(O20="","",O20) | AP20: cm | AQ20: =IF(P20="","",P20) | AS20: cm | AT20: =IF(Q20="","",Q20)
G21: =IF($R$4="","",$R$4) | I21: 9 | U21: =IF(H21=1,"○","") | V21: 9 | W21: =IF(J21="","",J21) | AA21: =IF(K21="","",K21) | AC21: =IF(L21="","",L21) | AH21: =IF(M21="","",M21) | AJ21: 年 | AK21: =IF(N21="","",N21) | AM21: cm | AN21: =IF(O21="","",O21) | AP21: cm | AQ21: =IF(P21="","",P21) | AS21: cm | AT21: =IF(Q21="","",Q21)
G22: =IF($R$4="","",$R$4) | I22: 10 | U22: =IF(H22=1,"○","") | V22: 10 | W22: =IF(J22="","",J22) | AA22: =IF(K22="","",K22) | AC22: =IF(L22="","",L22) | AH22: =IF(M22="","",M22) | AJ22: 年 | AK22: =IF(N22="","",N22) | AM22: cm | AN22: =IF(O22="","",O22) | AP22: cm | AQ22: =IF(P22="","",P22) | AS22: cm | AT22: =IF(Q22="","",Q22)
G23: =IF($R$4="","",$R$4) | I23: 11 | U23: =IF(H23=1,"○","") | V23: 11 | W23: =IF(J23="","",J23) | AA23: =IF(K23="","",K23) | AC23: =IF(L23="","",L23) | AH23: =IF(M23="","",M23) | AJ23: 年 | AK23: =IF(N23="","",N23) | AM23: cm | AN23: =IF(O23="","",O23) | AP23: cm | AQ23: =IF(P23="","",P23) | AS23: cm | AT23: =IF(Q23="","",Q23)
G24: =IF($R$4="","",$R$4) | I24: 12 | U24: =IF(H24=1,"○","") | V24: 12 | W24: =IF(J24="","",J24) | AA24: =IF(K24="","",K24) | AC24: =IF(L24="","",L24) | AH24: =IF(M24="","",M24) | AJ24: 年 | AK24: =IF(N24="","",N24) | AM24: cm | AN24: =IF(O24="","",O24) | AP24: cm | AQ24: =IF(P24="","",P24) | AS24: cm | AT24: =IF(Q24="","",Q24)
U25: ※ 主将の【背番号】に【○】をつけてください。
U26: ※ ＪＯＣカップ愛媛県選抜チーム推薦選手には【推薦】の欄に【○】をつけてください。

Sheet 男子メンバー表
B1: 記録用紙用メンバー表
B2: 外側の線に沿って切り離して、試合前に提出してください。大会を通して使用します。
A5: ='男子用申込書(必ず記入要領を確認してください。)'!R4 -> 0 | B5: チーム名 | C5: =IFERROR(VLOOKUP(A5,チーム情報,8,0),"")
B6: 競技者 番 号 | C6: 氏 名
B7: =IF('男子用申込書(必ず記入要領を確認してください。)'!K13="","", '男子用申込書(必ず記入要領を確認してください。)'!K13) | C7: =IF('男子用申込書(必ず記入要領を確認してください。)'!L13="","", '男子用申込書(必ず記入要領を確認してください。)'!L13)
B8: =IF('男子用申込書(必ず記入要領を確認してください。)'!K14="","", '男子用申込書(必ず記入要領を確認してください。)'!K14) | C8: =IF('男子用申込書(必ず記入要領を確認してください。)'!L14="","", '男子用申込書(必ず記入要領を確認してください。)'!L14)
B9: =IF('男子用申込書(必ず記入要領を確認してください。)'!K15="","", '男子用申込書(必ず記入要領を確認してください。)'!K15) | C9: =IF('男子用申込書(必ず記入要領を確認してください。)'!L15="","", '男子用申込書(必ず記入要領を確認してください。)'!L15)
B10: =IF('男子用申込書(必ず記入要領を確認してください。)'!K16="","", '男子用申込書(必ず記入要領を確認してください。)'!K16) | C10: =IF('男子用申込書(必ず記入要領を確認してください。)'!L16="","", '男子用申込書(必ず記入要領を確認してください。)'!L16)
B11: =IF('男子用申込書(必ず記入要領を確認してください。)'!K17="","", '男子用申込書(必ず記入要領を確認してください。)'!K17) | C11: =IF('男子用申込書(必ず記入要領を確認してください。)'!L17="","", '男子用申込書(必ず記入要領を確認してください。)'!L17)
B12: =IF('男子用申込書(必ず記入要領を確認してください。)'!K18="","", '男子用申込書(必ず記入要領を確認してください。)'!K18) | C12: =IF('男子用申込書(必ず記入要領を確認してください。)'!L18="","", '男子用申込書(必ず記入要領を確認してください。)'!L18)
B13: =IF('男子用申込書(必ず記入要領を確認してください。)'!K19="","", '男子用申込書(必ず記入要領を確認してください。)'!K19) | C13: =IF('男子用申込書(必ず記入要領を確認してください。)'!L19="","", '男子用申込書(必ず記入要領を確認してください。)'!L19)
B14: =IF('男子用申込書(必ず記入要領を確認してください。)'!K20="","", '男子用申込書(必ず記入要領を確認してください。)'!K20) | C14: =IF('男子用申込書(必ず記入要領を確認してください。)'!L20="","", '男子用申込書(必ず記入要領を確認してください。)'!L20)
B15: =IF('男子用申込書(必ず記入要領を確認してください。)'!K21="","", '男子用申込書(必ず記入要領を確認してください。)'!K21) | C15: =IF('男子用申込書(必ず記入要領を確認してください。)'!L21="","", '男子用申込書(必ず記入要領を確認してください。)'!L21)
B16: =IF('男子用申込書(必ず記入要領を確認してください。)'!K22="","", '男子用申込書(必ず記入要領を確認してください。)'!K22) | C16: =IF('男子用申込書(必ず記入要領を確認してください。)'!L22="","", '男子用申込書(必ず記入要領を確認してください。)'!L22)
B17: =IF('男子用申込書(必ず記入要領を確認してください。)'!K23="","", '男子用申込書(必ず記入要領を確認してください。)'!K23) | C17: =IF('男子用申込書(必ず記入要領を確認してください。)'!L23="","", '男子用申込書(必ず記入要領を確認してください。)'!L23)
B18: =IF('男子用申込書(必ず記入要領を確認してください。)'!K24="","", '男子用申込書(必ず記入要領を確認してください。)'!K24) | C18: =IF('男子用申込書(必ず記入要領を確認してください。)'!L24="","", '男子用申込書(必ず記入要領を確認してください。)'!L24)

Sheet 女子用申込書(必ず記入要領を確認してください。)
U3: ２０２６年度 愛媛県中学生バレーボール新人大会 参加申込書
U4: チーム名 | X4: =IFERROR(VLOOKUP($R$4,チーム情報,7,0)&"","") | AO4: 女子 | AQ4: チームの日本協会登録ＩＤ
AQ5: =IFERROR(VLOOKUP($R$4,チーム情報,3,0)&"","")
U6: 所在地 | X6: 〒 | Y6: =IFERROR(VLOOKUP($R$4,チーム情報,10,0)&"","") | AE6: =IFERROR(VLOOKUP($R$4,チーム情報,11,0)&"","")
U7: 電話 | X7: =IFERROR(VLOOKUP($R$4,チーム情報,12,0)&"","") | AI7: 全チーム 日本協会登録ＩＤ （監督かコーチに必要） | AP7: クラブチームのみ Ｊスポ資格番号 （監督かコーチに必要）
U8: 監 督 | X8: =IF(C14="","",C14) | AF8: （大人） | AI8: =IF(D14="","",D14) | AP8: =IF(E14="","",E14)
U9: コーチ | X9: =IF(C15="","",C15) | AF9: （大人） | AI9: =IF(D15="","",D15) | AP9: =IF(E15="","",E15)
J10: マネージャーＩＤ | L10: マネージャー氏名 | U10: 緊急連絡先 監督の携帯電話など | AA10: =IF(C16="","",C16) | AI10: 書類が送れる メールアドレス | AO10: =IF(C17="","",C17)
U11: マネー ジャー | X11: =IF(L11="","",L11) | AF11: （生徒） | AI11: マネージャーの 日本協会登録ＩＤ | AO11: =IF(J11="","",J11)
G12: No | H12: 推薦 | J12: 日本協会登録ID | K12: 背番号 | L12: 選手氏名 | M12: 学年 | N12: 身長 | O12: 指高 | P12: 最高 到達点 | Q12: 備考 | U12: 推薦 | V12: 番号 | W12: 日本協会 登録ＩＤ | AA12: 背番号 | AC12: 選手氏名 | AH12: 学 年 | AK12: 身 長 | AN12: 指 高 | AQ12: 最高到達点 | AT12: 備考 (学校名)
G13: =IF($R$4="","",$R$4) | I13: 1 | U13: =IF(H13=1,"○","") | V13: 1 | W13: =IF(J13="","",J13) | AA13: =IF(K13="","",K13) | AC13: =IF(L13="","",L13) | AH13: =IF(M13="","",M13) | AJ13: 年 | AK13: =IF(N13="","",N13) | AM13: cm | AN13: =IF(O13="","",O13) | AP13: cm | AQ13: =IF(P13="","",P13) | AS13: cm | AT13: =IF(Q13="","",Q13)
B14: 監督氏名 | G14: =IF($R$4="","",$R$4) | I14: 2 | U14: =IF(H14=1,"○","") | V14: 2 | W14: =IF(J14="","",J14) | AA14: =IF(K14="","",K14) | AC14: =IF(L14="","",L14) | AH14: =IF(M14="","",M14) | AJ14: 年 | AK14: =IF(N14="","",N14) | AM14: cm | AN14: =IF(O14="","",O14) | AP14: cm | AQ14: =IF(P14="","",P14) | AS14: cm | AT14: =IF(Q14="","",Q14)
B15: コーチ氏名 | G15: =IF($R$4="","",$R$4) | I15: 3 | U15: =IF(H15=1,"○","") | V15: 3 | W15: =IF(J15="","",J15) | AA15: =IF(K15="","",K15) | AC15: =IF(L15="","",L15) | AH15: =IF(M15="","",M15) | AJ15: 年 | AK15: =IF(N15="","",N15) | AM15: cm | AN15: =IF(O15="","",O15) | AP15: cm | AQ15: =IF(P15="","",P15) | AS15: cm | AT15: =IF(Q15="","",Q15)
B16: 緊急連絡先 | G16: =IF($R$4="","",$R$4) | I16: 4 | U16: =IF(H16=1,"○","") | V16: 4 | W16: =IF(J16="","",J16) | AA16: =IF(K16="","",K16) | AC16: =IF(L16="","",L16) | AH16: =IF(M16="","",M16) | AJ16: 年 | AK16: =IF(N16="","",N16) | AM16: cm | AN16: =IF(O16="","",O16) | AP16: cm | AQ16: =IF(P16="","",P16) | AS16: cm | AT16: =IF(Q16="","",Q16)
B17: 書類が送れる メールアドレス | G17: =IF($R$4="","",$R$4) | I17: 5 | U17: =IF(H17=1,"○","") | V17: 5 | W17: =IF(J17="","",J17) | AA17: =IF(K17="","",K17) | AC17: =IF(L17="","",L17) | AH17: =IF(M17="","",M17) | AJ17: 年 | AK17: =IF(N17="","",N17) | AM17: cm | AN17: =IF(O17="","",O17) | AP17: cm | AQ17: =IF(P17="","",P17) | AS17: cm | AT17: =IF(Q17="","",Q17)
G18: =IF($R$4="","",$R$4) | I18: 6 | U18: =IF(H18=1,"○","") | V18: 6 | W18: =IF(J18="","",J18) | AA18: =IF(K18="","",K18) | AC18: =IF(L18="","",L18) | AH18: =IF(M18="","",M18) | AJ18: 年 | AK18: =IF(N18="","",N18) | AM18: cm | AN18: =IF(O18="","",O18) | AP18: cm | AQ18: =IF(P18="","",P18) | AS18: cm | AT18: =IF(Q18="","",Q18)
G19: =IF($R$4="","",$R$4) | I19: 7 | U19: =IF(H19=1,"○","") | V19: 7 | W19: =IF(J19="","",J19) | AA19: =IF(K19="","",K19) | AC19: =IF(L19="","",L19) | AH19: =IF(M19="","",M19) | AJ19: 年 | AK19: =IF(N19="","",N19) | AM19: cm | AN19: =IF(O19="","",O19) | AP19: cm | AQ19: =IF(P19="","",P19) | AS19: cm | AT19: =IF(Q19="","",Q19)
G20: =IF($R$4="","",$R$4) | I20: 8 | U20: =IF(H20=1,"○","") | V20: 8 | W20: =IF(J20="","",J20) | AA20: =IF(K20="","",K20) | AC20: =IF(L20="","",L20) | AH20: =IF(M20="","",M20) | AJ20: 年 | AK20: =IF(N20="","",N20) | AM20: cm | AN20: =IF(O20="","",O20) | AP20: cm | AQ20: =IF(P20="","",P20) | AS20: cm | AT20: =IF(Q20="","",Q20)
G21: =IF($R$4="","",$R$4) | I21: 9 | U21: =IF(H21=1,"○","") | V21: 9 | W21: =IF(J21="","",J21) | AA21: =IF(K21="","",K21) | AC21: =IF(L21="","",L21) | AH21: =IF(M21="","",M21) | AJ21: 年 | AK21: =IF(N21="","",N21) | AM21: cm | AN21: =IF(O21="","",O21) | AP21: cm | AQ21: =IF(P21="","",P21) | AS21: cm | AT21: =IF(Q21="","",Q21)
G22: =IF($R$4="","",$R$4) | I22: 10 | U22: =IF(H22=1,"○","") | V22: 10 | W22: =IF(J22="","",J22) | AA22: =IF(K22="","",K22) | AC22: =IF(L22="","",L22) | AH22: =IF(M22="","",M22) | AJ22: 年 | AK22: =IF(N22="","",N22) | AM22: cm | AN22: =IF(O22="","",O22) | AP22: cm | AQ22: =IF(P22="","",P22) | AS22: cm | AT22: =IF(Q22="","",Q22)
G23: =IF($R$4="","",$R$4) | I23: 11 | U23: =IF(H23=1,"○","") | V23: 11 | W23: =IF(J23="","",J23) | AA23: =IF(K23="","",K23) | AC23: =IF(L23="","",L23) | AH23: =IF(M23="","",M23) | AJ23: 年 | AK23: =IF(N23="","",N23) | AM23: cm | AN23: =IF(O23="","",O23) | AP23: cm | AQ23: =IF(P23="","",P23) | AS23: cm | AT23: =IF(Q23="","",Q23)
G24: =IF($R$4="","",$R$4) | I24: 12 | U24: =IF(H24=1,"○","") | V24: 12 | W24: =IF(J24="","",J24) | AA24: =IF(K24="","",K24) | AC24: =IF(L24="","",L24) | AH24: =IF(M24="","",M24) | AJ24: 年 | AK24: =IF(N24="","",N24) | AM24: cm | AN24: =IF(O24="","",O24) | AP24: cm | AQ24: =IF(P24="","",P24) | AS24: cm | AT24: =IF(Q24="","",Q24)
U25: ※ 主将の【背番号】に【○】をつけてください。
U26: ※ ＪＯＣカップ愛媛県選抜チーム推薦選手には【推薦】の欄に【○】をつけてください。

Sheet 女子メンバー表
B1: 記録用紙用メンバー表
B2: 外側の線に沿って切り離して、試合前に提出してください。大会を通して使用します。
A5: ='女子用申込書(必ず記入要領を確認してください。)'!R4 -> 0 | B5: チーム名 | C5: =IFERROR(VLOOKUP(A5,チーム情報,8,0),"")
B6: 競技者 番 号 | C6: 氏 名
B7: =IF('男子用申込書(必ず記入要領を確認してください。)'!K13="","", '男子用申込書(必ず記入要領を確認してください。)'!K13) | C7: =IF('女子用申込書(必ず記入要領を確認してください。)'!L13="","", '女子用申込書(必ず記入要領を確認してください。)'!L13)
B8: =IF('男子用申込書(必ず記入要領を確認してください。)'!K14="","", '男子用申込書(必ず記入要領を確認してください。)'!K14) | C8: =IF('女子用申込書(必ず記入要領を確認してください。)'!L14="","", '女子用申込書(必ず記入要領を確認してください。)'!L14)
B9: =IF('男子用申込書(必ず記入要領を確認してください。)'!K15="","", '男子用申込書(必ず記入要領を確認してください。)'!K15) | C9: =IF('女子用申込書(必ず記入要領を確認してください。)'!L15="","", '女子用申込書(必ず記入要領を確認してください。)'!L15)
B10: =IF('男子用申込書(必ず記入要領を確認してください。)'!K16="","", '男子用申込書(必ず記入要領を確認してください。)'!K16) | C10: =IF('女子用申込書(必ず記入要領を確認してください。)'!L16="","", '女子用申込書(必ず記入要領を確認してください。)'!L16)
B11: =IF('男子用申込書(必ず記入要領を確認してください。)'!K17="","", '男子用申込書(必ず記入要領を確認してください。)'!K17) | C11: =IF('女子用申込書(必ず記入要領を確認してください。)'!L17="","", '女子用申込書(必ず記入要領を確認してください。)'!L17)
B12: =IF('男子用申込書(必ず記入要領を確認してください。)'!K18="","", '男子用申込書(必ず記入要領を確認してください。)'!K18) | C12: =IF('女子用申込書(必ず記入要領を確認してください。)'!L18="","", '女子用申込書(必ず記入要領を確認してください。)'!L18)
B13: =IF('男子用申込書(必ず記入要領を確認してください。)'!K19="","", '男子用申込書(必ず記入要領を確認してください。)'!K19) | C13: =IF('女子用申込書(必ず記入要領を確認してください。)'!L19="","", '女子用申込書(必ず記入要領を確認してください。)'!L19)
B14: =IF('男子用申込書(必ず記入要領を確認してください。)'!K20="","", '男子用申込書(必ず記入要領を確認してください。)'!K20) | C14: =IF('女子用申込書(必ず記入要領を確認してください。)'!L20="","", '女子用申込書(必ず記入要領を確認してください。)'!L20)
B15: =IF('男子用申込書(必ず記入要領を確認してください。)'!K21="","", '男子用申込書(必ず記入要領を確認してください。)'!K21) | C15: =IF('女子用申込書(必ず記入要領を確認してください。)'!L21="","", '女子用申込書(必ず記入要領を確認してください。)'!L21)
B16: =IF('男子用申込書(必ず記入要領を確認してください。)'!K22="","", '男子用申込書(必ず記入要領を確認してください。)'!K22) | C16: =IF('女子用申込書(必ず記入要領を確認してください。)'!L22="","", '女子用申込書(必ず記入要領を確認してください。)'!L22)
B17: =IF('男子用申込書(必ず記入要領を確認してください。)'!K23="","", '男子用申込書(必ず記入要領を確認してください。)'!K23) | C17: =IF('女子用申込書(必ず記入要領を確認してください。)'!L23="","", '女子用申込書(必ず記入要領を確認してください。)'!L23)
B18: =IF('男子用申込書(必ず記入要領を確認してください。)'!K24="","", '男子用申込書(必ず記入要領を確認してください。)'!K24) | C18: =IF('女子用申込書(必ず記入要領を確認してください。)'!L24="","", '女子用申込書(必ず記入要領を確認してください。)'!L24)

Sheet Sheet1
C2: 東予 | F2: 中予 | I2: 南予 | L2: クラブ
C3: 番号 | D3: チーム | F3: 番号 | G3: チーム | I3: 番号 | J3: チーム | L3: 番号 | M3: チーム
C4: 1 | D4: 川之江北 | F4: 48 | G4: 拓南 | I4: 95 | J4: 大洲南 | L4: 133 | M4: 四国中央ｸﾗﾌﾞ
C5: 2 | D5: 川之江南 | F5: 49 | G5: 雄新 | I5: 96 | J5: 大洲北 | L5: 134 | M5: 新居浜ｸﾗﾌﾞﾕｰｽ
C6: 3 | D6: 三島西 | F6: 50 | G6: 勝山 | I6: 97 | J6: 平野 | L6: 135 | M6: 余土クラブ
C7: 4 | D7: 三島南 | F7: 51 | G7: 松山東 | I7: 98 | J7: 肱東 | L7: 136 | M7: FLY HIGH
C8: 5 | D8: 三島東 | F8: 52 | G8: 道後 | I8: 99 | J8: 新谷 | L8: 137 | M8: 天神クラブ
C9: 6 | D9: 土居 | F9: 53 | G9: 鴨川 | I9: 100 | J9: 大洲東 | L9: 138 | M9: 葵クラブ
C10: 7 | D10: 新宮 | F10: 54 | G10: 内宮 | I10: 101 | J10: 長浜 | L10: 139 | M10: たきはまＶＣ
C11: 8 | D11: 新居浜東 | F11: 55 | G11: 三津浜 | I11: 102 | J11: 肱川 | L11: 140 | M11: VORTEX今治女子
C12: 9 | D12: 新居浜西 | F12: 56 | G12: 高浜 | I12: 103 | J12: 河辺 | L12: 141 | M12: Y’sﾊﾞﾚｰﾎﾞｰﾙｸﾗﾌﾞ
C13: 10 | D13: 新居浜南 | F13: 57 | G13: 津田 | I13: 104 | J13: 内子 | L13: 142 | M13: ＮＯＡ
C14: 11 | D14: 新居浜北 | F14: 58 | G14: 垣生 | I14: 105 | J14: 大瀬 | L14: 143 | M14: 東温ルミナス
C15: 12 | D15: 泉川 | F15: 59 | G15: 興居島 | I15: 106 | J15: 五十崎 | L15: 144 | M15: スマイル大洲
... C28: 25 | D28: 河北 | F28: 72 | G28: 城西 | I28: 119 | J28: 城東 | L28: 157 | M28: SEEDS 女子
C29: 26 | D29: 東予東 | F29: 73 | G29: 松山北 | I29: 120 | J29: 城南
C30: 27 | D30: 丹原東 | F30: 74 | G30: 北条北 | I30: 121 | J30: 城北
C31: 28 | D31: 丹原西 | F31: 75 | G31: 北条南 | I31: 122 | J31: 吉田
C32: 29 | D32: 日吉 | F32: 76 | G32: 中島 | I32: 123 | J32: 三間
C33: 30 | D33: 近見 | F33: 77 | G33: 愛大附属 | I33: 124 | J33: 津島
C34: 31 | D34: 立花 | F34: 78 | G34: 県立西 | I34: 125 | J34: 松野
C35: 32 | D35: 桜井 | F35: 79 | G35: 愛光 | I35: 126 | J35: 広見
C36: 33 | D36: 今治南 | F36: 80 | G36: 済美平成 | I36: 127 | J36: 日吉
C37: 34 | D37: 今治西 | F37: 81 | G37: 松山東雲 | I37: 128 | J37: 内海
C38: 35 | D38: 北郷 | F38: 82 | G38: 新田青雲 | I38: 129 | J38: 御荘
C39: 36 | D39: 朝倉 | F39: 83 | G39: 重信 | I39: 130 | J39: 城辺
C40: 37 | D40: 玉川 | F40: 84 | G40: 川内 | I40: 131 | J40: 一本松
C41: 38 | D41: 大西 | F41: 85 | G41: 港南 | I41: 132 | J41: 宇和島南
C42: 39 | D42: 菊間 | F42: 86 | G42: 伊予
C43: 40 | D43: 大島 | F43: 87 | G43: 中山
C44: 41 | D44: 伯方 | F44: 88 | G44: 双海
C45: 42 | D45: 大三島 | F45: 89 | G45: 北伊予
C46: 43 | D46: 関前 | F46: 90 | G46: 岡田
C47: 44 | D47: 魚島 | F47: 91 | G47: 松前
C48: 45 | D48: 弓削 | F48: 92 | G48: 砥部
C49: 46 | D49: 岩城 | F49: 93 | G49: 久万
C50: 47 | D50: 今治東 | F50: 94 | G50: 美川

Sheet チーム情報
A1: 1 | B1: 2 | C1: 3 | D1: 4 | E1: 5 | F1: 6 | G1: 7 | H1: 8 | I1: 9 | J1: 10 | K1: 11 | L1: 12 | M1: 13
A2: 番号 | B2: 男子ＩＤ | C2: 女子ＩＤ | D2: 郡市 | E2: 学校名 | F2: 中学校 | H2: 通称 | I2: 男女 | J2: 学校郵便番号 | K2: 住所 | L2: 電話 | M2: ＦＡＸ | O2: 番号 | P2: 松山 | Q2: 郡市名 | R2: 立 | S2: 学校名 | T2: 中学校 | U2: 通称 | V2: 学校郵便番号1 | W2: 学校郵便番号2 | X2: 学校住所1 | Y2: 学校住所2 | Z2: 電話 | AA2: ＦＡＸ | AC2: 学校郵便番号0 | AD2: 学校郵便番号2 | AF2: 学校郵便番号2 | AH2: 男子ID | AI2: 女子ID
A3: 1 | B3: T10355367 | C3: T10218884 | D3: 四国中央市立 | E3: 川之江北 | F3: 中学校 | G3: =D3&" "&E3&" "&F3 -> 四国中央市立 川之江北 中学校 | H3: 川之江北 | J3: ７９９－０１０１ | K3: 四国中央市川之江町２３９０ | L3: ０８９６－２８－６２８７ | M3: ０８９６－２８－６１９８ | O3: 1 | Q3: 四国中央市 | R3: 立 | S3: 川之江北 | T3: 中学校 | U3: 川之江北 | V3: ７９９ | W3: ０１０１ | X3: 四国中央市川之江町２３９０ | Z3: 0896－28－6287 | AA3: 0896－28－6198 | AC3: 799-0101 | AD3: 799 | AE3: - | AF3: 0101 | AH3: 433653292 | AI3: 432243313
A4: 2 | B4: T10214657 | C4: T10316313 | D4: 四国中央市立 | E4: 川之江南 | F4: 中学校 | G4: =D4&" "&E4&" "&F4 -> 四国中央市立 川之江南 中学校 | H4: 川之江南 | J4: ７９９－０１２１ | K4: 四国中央市上分町３９５ | L4: ０８９６－２８－６２８６ | M4: ０８９６－２８－６１９７ | O4: 2 | Q4: 四国中央市 | R4: 立 | S4: 川之江南 | T4: 中学校 | U4: 川之江南 | V4: ７９９ | W4: ０１２１ | X4: 四国中央市上分町３９５ | Z4: 0896－28－6286 | AA4: 0896－28－6197 | AC4: 799-0121 | AD4: 799 | AE4: - | AF4: 0121 | AH4: 432199997 | AI4: 433260802
A5: 3 | C5: T10262016 | D5: 四国中央市立 | E5: 三島西 | F5: 中学校 | G5: =D5&" "&E5&" "&F5 -> 四国中央市立 三島西 中学校 | H5: 三島西 | J5: ７９９－０４２２ | K5: 四国中央市中之庄町乙３８－１ | L5: ０８９６－２８－６１００ | M5: ０８９６－２８－６１２２ | O5: 3 | Q5: 四国中央市 | R5: 立 | S5: 三島西 | T5: 中学校 | U5: 三島西 | V5: ７９９ | W5: ０４２２ | X5: 四国中央市中之庄町乙３８－１ | Z5: 0896－28－6100 | AA5: 0896－28－6122 | AC5: 799-0422 | AD5: 799 | AE5: - | AF5: 0422 | AI5: 432675620
A6: 4 | B6: T10355664 | C6: T10209578 | D6: 四国中央市立 | E6: 三島南 | F6: 中学校 | G6: =D6&" "&E6&" "&F6 -> 四国中央市立 三島南 中学校 | H6: 三島南 | J6: ７９９－０４３１ | K6: 四国中央市寒川町４３３５ | L6: ０８９６－２８－６０９９ | M6: ０８９６－２８－６１２１ | O6: 4 | Q6: 四国中央市 | R6: 立 | S6: 三島南 | T6: 中学校 | U6: 三島南 | V6: ７９９ | W6: ０４３１ | X6: 四国中央市寒川町４３３５ | Z6: 0896－28－6099 | AA6: 0896－28－6121 | AC6: 799-0431 | AD6: 799 | AE6: - | AF6: 0431 | AH6: 433656247 | AI6: 432147905
A7: 5 | B7: T10262443 | C7: T10262436 | D7: 四国中央市立 | E7: 三島東 | F7: 中学校 | G7: =D7&" "&E7&" "&F7 -> 四国中央市立 三島東 中学校 | H7: 三島東 | J7: ７９９－０４１３ | K7: 四国中央市中曽根町１９９ | L7: ０８９６－２８－６０９８ | M7: ０８９６－２８－６１２０ | O7: 5 | Q7: 四国中央市 | R7: 立 | S7: 三島東 | T7: 中学校 | U7: 三島東 | V7: ７９９ | W7: ０４１３ | X7: 四国中央市中曽根町１９９ | Z7: 0896－28－6098 | AA7: 0896－28－6120 | AC7: 799-0413 | AD7: 799 | AE7: - | AF7: 0413 | AH7: 432679932 | AI7: 432679805
A8: 6 | B8: T10261675 | C8: T10228876 | D8: 四国中央市立 | E8: 土居 | F8: 中学校 | G8: =D8&" "&E8&" "&F8 -> 四国中央市立 土居 中学校 | H8: 土居 | J8: ７９９－０７１１ | K8: 四国中央市土居町土居３７５ | L8: ０８９６－２８－６３７１ | M8: ０８９６－２８－６３８５ | O8: 6 | Q8: 四国中央市 | R8: 立 | S8: 土居 | T8: 中学校 | U8: 土居 | V8: ７９９ | W8: ０７１１ | X8: 四国中央市土居町土居３７５ | Z8: 0896－28－6371 | AA8: 0896－28－6385 | AC8: 799-0711 | AD8: 799 | AE8: - | AF8: 0711 | AH8: 432672200 | AI8: 432344247
A9: 7 | D9: 四国中央市立 | E9: 新宮 | F9: 中学校 | G9: =D9&" "&E9&" "&F9 -> 四国中央市立 新宮 中学校 | H9: 新宮 | J9: ７９９－０３０３ | K9: 四国中央市新宮町新宮１０５ | L9: ０８９６－２８－６４２４ | M9: ０８９６－２８－６４２５ | O9: 7 | Q9: 四国中央市 | R9: 立 | S9: 新宮 | T9: 中学校 | U9: 新宮 | V9: ７９９ | W9: ０３０３ | X9: 四国中央市新宮町新宮１０５ | Z9: 0896－28－6424 | AA9: 0896－28－6425 | AC9: 799-0303 | AD9: 799 | AE9: - | AF9: 0303 | AH9: 432788969
A10: 8 | B10: T10475492 | C10: T10533192 | D10: 新居浜市立 | E10: 東 | F10: 中学校 | G10: =D10&" "&E10&" "&F10 -> 新居浜市立 東 中学校 | H10: 新居浜東 | J10: ７９２－０８６４ | K10: 新居浜市東雲町１丁目４番２３号 | L10: ０８９７－３７－１２９４ | M10: ０８９７－３７－１０３８ | O10: 8 | Q10: 新居浜市 | R10: 立 | S10: 東 | T10: 中学校 | U10: 新居浜東 | V10: ７９２ | W10: ０８６４ | X10: 新居浜市東雲町１丁目４番２３号 | Z10: 0897－37－1294 | AA10: 0897－37－1038 | AC10: 792-0864 | AD10: 792 | AE10: - | AF10: 0864 | AH10: 434996017 | AI10: 435655301
A11: 9 | D11: 新居浜市立 | E11: 西 | F11: 中学校 | G11: =D11&" "&E11&" "&F11 -> 新居浜市立 西 中学校 | H11: 新居浜西 | J11: ７９２－０００５ | K11: 新居浜市江口町７番１号 | L11: ０８９７－３７－２０２１ | M11: ０８９７－３７－２０２３ | O11: 9 | Q11: 新居浜市 | R11: 立 | S11: 西 | T11: 中学校 | U11: 新居浜西 | V11: ７９２ | W11: ０００５ | X11: 新居浜市江口町７番１号 | Z11: 0897－37－2021 | AA11: 0897－37－2023 | AC11: 792-0005 | AD11: 792 | AE11: - | AF11: 0005 | AI11: 433745808
A12: 10 | B12: T10260692 | C12: T10472217 | D12: 新居浜市立 | E12: 南 | F12: 中学校 | G12: =D12&" "&E12&" "&F12 -> 新居浜市立 南 中学校 | H12: 新居浜南 | J12: ７９２－０８１１ | K12: 新居浜市庄内町２丁目４番４７号 | L12: ０８９７－３７－０３１０ | M12: ０８９７－３７－５３９２ | O12: 10 | Q12: 新居浜市 | R12: 立 | S12: 南 | T12: 中学校 | U12: 新居浜南 | V12: ７９２ | W12: ０８１１ | X12: 新居浜市庄内町２丁目４番４７号 | Z12: 0897－37－0310 | AA12: 0897－37－5392 | AC12: 792-0811 | AD12: 792 | AE12: - | AF12: 0811 | AH12: 432662459 | AI12: 434963270
A13: 11 | C13: T10533161 | D13: 新居浜市立 | E13: 北 | F13: 中学校 | G13: =D13&" "&E13&" "&F13 -> 新居浜市立 北 中学校 | H13: 新居浜北 | J13: ７９２－００２４ | K13: 新居浜市宮西町５番８１号 | L13: ０８９７－３３－９１３５ | M13: ０８９７－３３－９１３６ | O13: 11 | Q13: 新居浜市 | R13: 立 | S13: 北 | T13: 中学校 | U13: 新居浜北 | V13: ７９２ | W13: ００２４ | X13: 新居浜市宮西町５番８１号 | Z13: 0897－33－9135 | AA13: 0897－33－9136 | AC13: 792-0024 | AD13: 792 | AE13: - | AF13: 0024 | AI13: 435655004
A14: 12 | C14: T10409381 | D14: 新居浜市立 | E14: 泉川 | F14: 中学校 | G14: =D14&" "&E14&" "&F14 -> 新居浜市立 泉川 中学校 | H14: 泉川 | J14: ７９２－０８２５ | K14: 新居浜市星原町７番８号 | L14: ０８９７－４３－５８００ | M14: ０８９７－４３－５８２１ | O14: 12 | Q14: 新居浜市 | R14: 立 | S14: 泉川 | T14: 中学校 | U14: 泉川 | V14: ７９２ | W14: ０８２５ | X14: 新居浜市星原町７番８号 | Z14: 0897－43－5800 | AA14: 0897－43－5821 | AC14: 792-0825 | AD14: 792 | AE14: - | AF14: 0825 | AI14: 434333979
A15: 13 | C15: T10658918 | D15: 新居浜市立 | E15: 船木 | F15: 中学校 | G15: =D15&" "&E15&" "&F15 -> 新居浜市立 船木 中学校 | H15: 船木 | J15: ７９２－０８５６ | K15: 新居浜市船木３７５４番地の１ | L15: ０８９７－４１－６３４７ | M15: ０８９７－４１－６３６４ | O15: 13 | Q15: 新居浜市 | R15: 立 | S15: 船木 | T15: 中学校 | U15: 船木 | V15: ７９２ | W15: ０８５６ | X15: 新居浜市船木３７５４番地の１ | Z15: 0897－41－6347 | AA15: 0897－41－6364 | AC15: 792-0856 | AD15: 792 | AE15: - | AF15: 0856 | AI15: 433059824
A16: 14 | B16: T10269886 | C16: T10333174 | D16: 新居浜市立 | E16: 中萩 | F16: 中学校 | G16: =D16&" "&E16&" "&F16 -> 新居浜市立 中萩 中学校 | H16: 中萩 | J16: ７９２－００４５ | K16: 新居浜市中萩町１３－３１ | L16: ０８９７－４３－５１３１ | M16: ０８９７－４３－５１３２ | O16: 14 | Q16: 新居浜市 | R16: 立 | S16: 中萩 | T16: 中学校 | U16: 中萩 | V16: ７９２ | W16: ００４５ | X16: 新居浜市中萩町１３－３１ | Z16: 0897－43－5131 | AA16: 0897－43－5132 | AC16: 792-0045 | AD16: 792 | AE16: - | AF16: 0045 | AH16: 432779268 | AI16: 433430919
A17: 15 | C17: T10333273 | D17: 新居浜市立 | E17: 大生院 | F17: 中学校 | G17: =D17&" "&E17&" "&F17 -> 新居浜市立 大生院 中学校 | H17: 大生院 | J17: ７９２－００６０ | K17: 新居浜市大生院１０７０番地の２ | L17: ０８９７－４１－６９２７ | M17: ０８９７－４１－６２２９ | O17: 15 | Q17: 新居浜市 | R17: 立 | S17: 大生院 | T17: 中学校 | U17: 大生院 | V17: ７９２ | W17: ００６０ | X17: 新居浜市大生院１０７０番地の２ | Z17: 0897－41－6927 | AA17: 0897－41－6229 | AC17: 792-0060 | AD17: 792 | AE17: - | AF17: 0060
A18: 16 | D18: 新居浜市立 | E18: 角野 | F18: 中学校 | G18: =D18&" "&E18&" "&F18 -> 新居浜市立 角野 中学校 | H18: 角野 | J18: ７９２－０８３３ | K18: 新居浜市宮原町１１番５１号 | L18: ０８９７－４３－６１０８ | M18: ０８９７－４３－６１０９ | O18: 16 | Q18: 新居浜市 | R18: 立 | S18: 角野 | T18: 中学校 | U18: 角野 | V18: ７９２ | W18: ０８３３ | X18: 新居浜市宮原町１１番５１号 | Z18: 0897－43－6108 | AA18: 0897－43－6109 | AC18: 792-0833 | AD18: 792 | AE18: - | AF18: 0833 | AI18: 433431983
A19: 17 | B19: T10230466 | C19: T10231968 | D19: 新居浜市立 | E19: 川東 | F19: 中学校 | G19: =D19&" "&E19&" "&F19 -> 新居浜市立 川東 中学校 | H19: 川東 | J19: ７９２－０８８４ | K19: 新居浜市神郷２丁目４番１号 | L19: ０８９７－４５－０１８０ | M19: ０８９７－４５－０１４４ | O19: 17 | Q19: 新居浜市 | R19: 立 | S19: 川東 | T19: 中学校 | U19: 川東 | V19: ７９２ | W19: ０８８４ | X19: 新居浜市神郷２丁目４番１号 | Z19: 0897－45－0180 | AA19: 0897－45－0144 | AC19: 792-0884 | AD19: 792 | AE19: - | AF19: 0884 | AH19: 432360195 | AI19: 432375137
A20: 18 | D20: 新居浜市立 | E20: 別子 | F20: 中学校 | G20: =D20&" "&E20&" "&F20 -> 新居浜市立 別子 中学校 | H20: 別子 | J20: ７９９－０６５０ | K20: 新居浜市別子山甲３５８ | L20: ０８９７－６４－２１１５ | M20: ０８９７－６４－２３２１ | O20: 18 | Q20: 新居浜市 | R20: 立 | S20: 別子 | T20: 中学校 | U20: 別子 | V20: ７９９ | W20: ０６５０ | X20: 新居浜市別子山甲３５８ | Z20: 0897－64－2115 | AA20: 0897－64－2321 | AC20: 799-0650 | AD20: 799 | AE20: - | AF20: 0650
A21: 19 | C21: T10248355 | D21: 西条市立 | E21: 西条東 | F21: 中学校 | G21: =D21&" "&E21&" "&F21 -> 西条市立 西条東 中学校 | H21: 西条東 | J21: ７９３－０００６ | K21: 西条市下島山甲８６５ | L21: ０８９７－５６－２６５３ | M21: ０８９７－５６－３５２５ | O21: 19 | Q21: 西条市 | R21: 立 | S21: 西条東 | T21: 中学校 | U21: 西条東 | V21: ７９３ | W21: ０００６ | X21: 西条市下島山甲８６５ | Z21: 0897－56－2653 | AA21: 0897－56－3525 | AC21: 793-0006 | AD21: 793 | AE21: - | AF21: 0006 | AI21: 432539053
A22: 20 | C22: T10259351 | D22: 西条市立 | E22: 西条西 | F22: 中学校 | G22: =D22&" "&E22&" "&F22 -> 西条市立 西条西 中学校 | H22: 西条西 | J22: ７９３－００７２ | K22: 西条市氷見乙５５８ | L22: ０８９７－５７－９４３４ | M22: ０８９７－５７－６１２３ | O22: 20 | Q22: 西条市 | R22: 立 | S22: 西条西 | T22: 中学校 | U22: 西条西 | V22: ７９３ | W22: ００７２ | X22: 西条市氷見乙５５８ | Z22: 0897－57－9434 | AA22: 0897－57－6123 | AC22: 793-0072 | AD22: 793 | AE22: - | AF22: 0072 | AI22: 432649009
A23: 21 | C23: T10247884 | D23: 西条市立 | E23: 西条南 | F23: 中学校 | G23: =D23&" "&E23&" "&F23 -> 西条市立 西条南 中学校 | H23: 西条南 | J23: ７９３－００３０ | K23: 西条市大町１１２０ | L23: ０８９７－５６－０３８０ | M23: ０８９７－５６－３６２０ | O23: 21 | Q23: 西条市 | R23: 立 | S23: 西条南 | T23: 中学校 | U23: 西条南 | V23: ７９３ | W23: ００３０ | X23: 西条市大町１１２０ | Z23: 0897－56－0380 | AA23: 0897－56－3620 | AC23: 793-0030 | AD23: 793 | AE23: - | AF23: 0030 | AI23: 432534383
A24: 22 | B24: T10245422 | C24: T10245828 | D24: 西条市立 | E24: 西条北 | F24: 中学校 | G24: =D24&" "&E24&" "&F24 -> 西条市立 西条北 中学校 | H24: 西条北 | J24: ７９３－００２７ | K24: 西条市朔日市４００－１ | L24: ０８９７－５６－０１７０ | M24: ０８９７－５６－３７０７ | O24: 22 | Q24: 西条市 | R24: 立 | S24: 西条北 | T24: 中学校 | U24: 西条北 | V24: ７９３ | W24: ００２７ | X24: 西条市朔日市４００－１ | Z24: 0897－56－0170 | AA24: 0897－56－3707 | AC24: 793-0027 | AD24: 793 | AE24: - | AF24: 0027 | AH24: 432509771 | AI24: 432513702
A25: 23 | B25: T10245453 | C25: T10262221 | D25: 西条市立 | E25: 小松 | F25: 中学校 | G25: =D25&" "&E25&" "&F25 -> 西条市立 小松 中学校 | H25: 小松 | J25: ７９９－１１０２ | K25: 西条市小松町南川甲２０８ | L25: ０８９８－７２－２７４４ | M25: ０８９８－７２－３５８７ | O25: 23 | Q25: 西条市 | R25: 立 | S25: 小松 | T25: 中学校 | U25: 小松 | V25: ７９９ | W25: １１０２ | X25: 西条市小松町南川甲２０８ | Z25: 0898－72－2744 | AA25: 0898－72－3587 | AC25: 799-1102 | AD25: 799 | AE25: - | AF25: 1102 | AH25: 432510077 | AI25: 432677705
A26: 24 | C26: T10315798 | D26: 西条市立 | E26: 東予西 | F26: 中学校 | G26: =D26&" "&E26&" "&F26 -> 西条市立 東予西 中学校 | H26: 東予西 | J26: ７９９－１３２２ | K26: 西条市国安９９６番地 | L26: ０８９８－６６－５０４２ | M26: ０８９８－６６－５６１９ | O26: 24 | Q26: 西条市 | R26: 立 | S26: 東予西 | T26: 中学校 | U26: 東予西 | V26: ７９９ | W26: １３２２ | X26: 西条市国安９９６番地 | Z26: 0898－66－5042 | AA26: 0898－66－5619 | AC26: 799-1322 | AD26: 799 | AE26: - | AF26: 1322 | AI26: 433255688
A27: 25 | C27: T10221655 | D27: 西条市立 | E27: 河北 | F27: 中学校 | G27: =D27&" "&E27&" "&F27 -> 西条市立 河北 中学校 | H27: 河北 | J27: ７９９－１３１１ | K27: 西条市宮之内２８４ | L27: ０８９８－６６－５０４４ | M27: ０８９８－６６－５７８９ | O27: 25 | Q27: 西条市 | R27: 立 | S27: 河北 | T27: 中学校 | U27: 河北 | V27: ７９９ | W27: １３１１ | X27: 西条市宮之内２８４ | Z27: 0898－66－5044 | AA27: 0898－66－5789 | AC27: 799-1311 | AD27: 799 | AE27: - | AF27: 1311 | AI27: 432271409
A28: 26 | B28: T10197080 | C28: T10249857 | D28: 西条市立 | E28: 東予東 | F28: 中学校 | G28: =D28&" "&E28&" "&F28 -> 西条市立 東予東 中学校 | H28: 東予東 | J28: ７９９－１３７１ | K28: 西条市周布１６０ | L28: ０８９８－６４－２１３２ | M28: ０８９８－６４－２１６１ | O28: 26 | Q28: 西条市 | R28: 立 | S28: 東予東 | T28: 中学校 | U28: 東予東 | V28: ７９９ | W28: １３７１ | X28: 西条市周布１６０ | Z28: 0898－64－2132 | AA28: 0898－64－2161 | AC28: 799-1371 | AD28: 799 | AE28: - | AF28: 1371 | AH28: 432016460 | AI28: 432554082
A29: 27 | B29: T10148006 | D29: 西条市立 | E29: 丹原東 | F29: 中学校 | G29: =D29&" "&E29&" "&F29 -> 西条市立 丹原東 中学校 | H29: 丹原東 | J29: ７９１－０５０３ | K29: 西条市丹原町今井４－１ | L29: ０８９８－６８－７０５４ | M29: ０８９８－６８－５０３５ | O29: 27 | Q29: 西条市 | R29: 立 | S29: 丹原東 | T29: 中学校 | U29: 丹原東 | V29: ７９１ | W29: ０５０３ | X29: 西条市丹原町今井４－１ | Z29: 0898－68－7054 | AA29: 0898－68－5035 | AC29: 791-0503 | AD29: 791 | AE29: - | AF29: 0503 | AH29: 431512299 | AI29: 431592602
A30: 28 | D30: 西条市立 | E30: 丹原西 | F30: 中学校 | G30: =D30&" "&E30&" "&F30 -> 西条市立 丹原西 中学校 | H30: 丹原西 | J30: ７９１－０５３１ | K30: 西条市丹原町来見甲１５－１ | L30: ０８９８－７３－２３０２ | M30: ０８９８－７３－２１６１ | O30: 28 | Q30: 西条市 | R30: 立 | S30: 丹原西 | T30: 中学校 | U30: 丹原西 | V30: ７９１ | W30: ０５３１ | X30: 西条市丹原町来見甲１５－１ | Z30: 0898－73－2302 | AA30: 0898－73－2161 | AC30: 791-0531 | AD30: 791 | AE30: - | AF30: 0531
A31: 29 | C31: T10431948 | D31: 今治市立 | E31: 日吉 | F31: 中学校 | G31: =D31&" "&E31&" "&F31 -> 今治市立 日吉 中学校 | H31: 日吉 | J31: ７９４－００５５ | K31: 今治市中日吉町１丁目３番７０号 | L31: ０８９８－２２－０７３１ | M31: ０８９８－２５－００５６ | O31: 29 | Q31: 今治市 | R31: 立 | S31: 日吉 | T31: 中学校 | U31: 日吉 | V31: ７９４ | W31: ００５５ | X31: 今治市中日吉町１丁目３番７０号 | Z31: 0898－22－0731 | AA31: 0898－25－0056 | AC31: 794-0055 | AD31: 794 | AE31: - | AF31: 0055 | AI31: 434560521
A32: 30 | D32: 今治市立 | E32: 近見 | F32: 中学校 | G32: =D32&" "&E32&" "&F32 -> 今治市立 近見 中学校 | H32: 近見 | J32: ７９４－０００７ | K32: 今治市近見町４丁目２－５７ | L32: ０８９８－２２－１０９４ | M32: ０８９８－２５－００５８ | O32: 30 | Q32: 今治市 | R32: 立 | S32: 近見 | T32: 中学校 | U32: 近見 | V32: ７９４ | W32: ０００７ | X32: 今治市近見町４丁目２－５７ | Z32: 0898－22－1094 | AA32: 0898－25－0058 | AC32: 794-0007 | AD32: 794 | AE32: - | AF32: 0007
A33: 31 | B33: T10133255 | C33: T10133149 | D33: 今治市立 | E33: 立花 | F33: 中学校 | G33: =D33&" "&E33&" "&F33 -> 今治市立 立花 中学校 | H33: 立花 | J33: ７９４－０８２１ | K33: 今治市立花町２丁目８番７号 | L33: ０８９８－３２－１０９５ | M33: ０８９８－２５－００６１ | O33: 31 | Q33: 今治市 | R33: 立 | S33: 立花 | T33: 中学校 | U33: 立花 | V33: ７９４ | W33: ０８２１ | X33: 今治市立花町２丁目８番７号 | Z33: 0898－32－1095 | AA33: 0898－25－0061 | AC33: 794-0821 | AD33: 794 | AE33: - | AF33: 0821 | AH33: 431357207 | AI33: 431356144
A34: 32 | D34: 今治市立 | E34: 桜井 | F34: 中学校 | G34: =D34&" "&E34&" "&F34 -> 今治市立 桜井 中学校 | H34: 桜井 | J34: ７９９－１５２３ | K34: 今治市郷桜井１丁目８番８号 | L34: ０８９８－４８－０１５０ | M34: ０８９８－４８－６５１０ | O34: 32 | Q34: 今治市 | R34: 立 | S34: 桜井 | T34: 中学校 | U34: 桜井 | V34: ７９９ | W34: １５２３ | X34: 今治市郷桜井１丁目８番８号 | Z34: 0898－48－0150 | AA34: 0898－48－6510 | AC34: 799-1523 | AD34: 799 | AE34: - | AF34: 1523 | AI34: 431679002
A35: 33 | B35: T10100028 | C35: T10099834 | D35: 今治市立 | E35: 南 | F35: 中学校 | G35: =D35&" "&E35&" "&F35 -> 今治市立 南 中学校 | H35: 今治南 | J35: ７９９－１５１３ | K35: 今治市松木３４９－１ | L35: ０８９８－４８－２５４６ | M35: ０８９８－４８－６５１８ | O35: 33 | Q35: 今治市 | R35: 立 | S35: 南 | T35: 中学校 | U35: 今治南 | V35: ７９９ | W35: １５１３ | X35: 今治市松木３４９－１ | Z35: 0898－48－2546 | AA35: 0898－48－6518 | AC35: 799-1513 | AD35: 799 | AE35: - | AF35: 1513 | AH35: 431016921 | AI35: 431014929
A36: 34 | B36: T10183410 | C36: T10171660 | D36: 今治市立 | E36: 西 | F36: 中学校 | G36: =D36&" "&E36&" "&F36 -> 今治市立 西 中学校 | H36: 今治西 | J36: ７９４－００７２ | K36: 今治市山路５５４－３ | L36: ０８９８－２２－０４１１ | M36: ０８９８－２５－００６３ | O36: 34 | Q36: 今治市 | R36: 立 | S36: 西 | T36: 中学校 | U36: 今治西 | V36: ７９４ | W36: ００７２ | X36: 今治市山路５５４－３ | Z36: 0898－22－0411 | AA36: 0898－25－0063 | AC36: 794-0072 | AD36: 794 | AE36: - | AF36: 0072 | AH36: 431877187 | AI36: 431757025
A37: 35 | C37: T10175361 | D37: 今治市立 | E37: 北郷 | F37: 中学校 | G37: =D37&" "&E37&" "&F37 -> 今治市立 北郷 中学校 | H37: 北郷 | J37: ７９９－２１１５ | K37: 今治市中堀４丁目１－１ | L37: ０８９８－４１－９０５１ | M37: ０８９８－４３－００２１ | O37: 35 | Q37: 今治市 | R37: 立 | S37: 北郷 | T37: 中学校 | U37: 北郷 | V37: ７９９ | W37: ２１１５ | X37: 今治市中堀４丁目１－１ | Z37: 0898－41－9051 | AA37: 0898－43－0021 | AC37: 799-2115 | AD37: 799 | AE37: - | AF37: 2115 | AI37: 431794807
A38: 36 | C38: T10197608 | D38: 今治市立 | E38: 朝倉 | F38: 中学校 | G38: =D38&" "&E38&" "&F38 -> 今治市立 朝倉 中学校 | H38: 朝倉 | J38: ７９９－１６０４ | K38: 今治市朝倉北甲２７３ | L38: ０８９８－５６－２０１６ | M38: ０８９８－３６－７０１４ | O38: 36 | Q38: 今治市 | R38: 立 | S38: 朝倉 | T38: 中学校 | U38: 朝倉 | V38: ７９９ | W38: １６０４ | X38: 今治市朝倉北甲２７３ | Z38: 0898－56－2016 | AA38: 0898－36－7014 | AC38: 799-1604 | AD38: 799 | AE38: - | AF38: 1604 | AI38: 432021843
A39: 37 | D39: 今治市立 | E39: 玉川 | F39: 中学校 | G39: =D39&" "&E39&" "&F39 -> 今治市立 玉川 中学校 | H39: 玉川 | J39: ７９４－０１１５ | K39: 今治市玉川町高野甲２１ | L39: ０８９８－５５－２０１９ | M39: ０８９８－５５－３１８１ | O39: 37 | Q39: 今治市 | R39: 立 | S39: 玉川 | T39: 中学校 | U39: 玉川 | V39: ７９４ | W39: ０１１５ | X39: 今治市玉川町高野甲２１ | Z39: 0898－55－2019 | AA39: 0898－55－3181 | AC39: 794-0115 | AD39: 794 | AE39: - | AF39: 0115 | AI39: 432918572
A40: 38 | C40: T1043209 | D40: 今治市立 | E40: 大西 | F40: 中学校 | G40: =D40&" "&E40&" "&F40 -> 今治市立 大西 中学校 | H40: 大西 | J40: ７９９－２２０１ | K40: 今治市大西町九王甲２２８０－１ | L40: ０８９８－５３－２０３８ | M40: ０８９８－５３－５５１５ | O40: 38 | Q40: 今治市 | R40: 立 | S40: 大西 | T40: 中学校 | U40: 大西 | V40: ７９９ | W40: ２２０１ | X40: 今治市大西町九王甲２２８０－１ | Z40: 0898－53－2038 | AA40: 0898－53－5515 | AC40: 799-2201 | AD40: 799 | AE40: - | AF40: 2201 | AI40: 431462543
...
